Workbook

Sheet PLANILHA
A1: MINISTÉRIO DA EDUCAÇÃO
A2: UNIVERSIDADE FEDERAL DOS VALES DO JEQUITINHONHA E MUCURI
A3: Campus II - Diamantina
A4: 2° PAVIMENTO - PRÉDIO DE FISIOTERAPIA
A5: ORÇAMENTO BÁSICO
A6: ITEM | B6: DISCRIMINAÇÃO | C6: UNID. | D6: QUANT. | E6: PR. UNITÁRIO | F6: VALOR
B7: DOS SERVIÇOS | E7: (R$) | F7: (R$)
A8: 1 | B8: SERVIÇOS PRELIMINARES
A9: 01.01 | B9: ESCRITÓRIO DE OBRA TIPO A (3,30x7,70) EXCETO INST. HIDRÁULICA E ELÉTRICA | C9: m² | D9: 15
A10: 01.02 | B10: FORNECIMENTO E ASSENTAMENTO DE PLACA DA OBRA | C10: m² | D10: 12
A11: 01.03 | B11: LIGAÇÕES PROVISÓRIAS DE ÁGUA/ESGOTO PARA CANTEIRO DE OBRA C/ ESCAVAÇÃO EXCL. REPARO | C11: un. | D11: 2
A12: 01.04 | B12: INSTALAÇÃO/LIGAÇÃO PROVISÓRIA ELÉTRICA BAIXA TENSÃO PARA CANTEIRO DE OBRA | C12: un. | D12: 1
A13: TOTAL DO ITEM 01
A14: 2 | B14: SUPER - ESTRUTURA
A15: 02.01 | B15: FORMA DE MADEIRA COMPENSADA RESINADA 12MM P/ ESTRUTURA REAPROVEITAMENTOS .3 VEZES - CORTE/MONTAGEM/ESCORAMENTO/DESFORMA | C15: m² | D15: =D16*15 -> 1659.45
A16: 02.02 | B16: CONCRETO ESTRUTURAL FCK >= 20,0 MPa, (1:1,5:3) - PREPARADO C/ BETONEIRA 2 | C16: m³ | D16: 110.63
A17: 02.03 | B17: LANÇAMENTO MANUAL DE CONCRETO EM ESTRUTURAS , INCLUSIVE VIBRAÇÃO | C17: m³ | D17: 110.63
A18: 02.04 | B18: ARMAÇÃO AÇO CA50/60 P/ ESTRUTURA | C18: kg | D18: 13109.88
A19: 02.05 | B19: LAJE PRE-MOLDADA BETA 20 P/ 3,5KN/M² INCL. VIGOTAS, TIJOLOS, ARM.NEG. | C19: m² | D19: 1396.49
A20: 02.06 | B20: VERGA 10x10 CM PRE-MOLDADA:CONCR. FCK=15 MPA(PREP. C/ BET.), CA60 / FORMA | C20: m | D20: 161.24
A21: TOTAL DO ITEM 02
A22: 3 | B22: PAREDES E PAINÉIS
A23: 03.01 | B23: ALVENARIA 10CM TIJ. CER. FURADO 10X20X20CM ASSENTES C/ ARGAMASSA DE CIM/AREIA/SAIBRO 1:3:7 | C23: m² | D23: 239.46
A24: 03.02 | B24: ALVENARIA 20CM TIJ. CER. FURADO 10X20X20CM ASSENTES C/ ARGAMASSA DE CIM/AREIA/SAIBRO 1:3:7 | C24: m² | D24: 1117.5
A25: 03.03 | B25: DIVISÓRIA EM ARDÓSIA POLIDA | C25: m² | D25: 10.08
A26: 03.04 | B26: ALVENARIA EM BLOCOS DE CONCRETO 15X20X40CM ASSENTES C/ ARG. CIM:CAL:AREIA 1:1/2:8 (VEDAÇÃO) | C26: m² | D26: 268.8
A27: 03.05 | B27: FORRO DE PVC | C27: m² | D27: 18.75
A28: TOTAL DO ITEM 03
A29: 4 | B29: INSTALAÇÕES ELÉTRICAS
A30: 04.01 | B30: QDC de sobrepor de 54 circuitos | C30: pç | D30: 1
A31: 04.02 | B31: QDC de sobrepor de 32 circuitos | C31: pç | D31: 1
A32: 04.03 | B32: QDC de sobrepor de 12 circuitos | C32: pç | D32: 1
A33: 04.04 | B33: QDC de sobrepor de 18 circuitos | C33: pç | D33: 1
A34: 04.05 | B34: QDC de sobrepor de 24 circuitos | C34: pç | D34: 1
A35: 04.06 | B35: Disjuntor tripolar 40A | C35: pç | D35: 7
A36: 04.07 | B36: Disjuntor tripolar 100A | C36: pç | D36: 1
A37: 04.08 | B37: Disjuntor tripolar 25A | C37: pç | D37: 1
A38: 04.09 | B38: Disjuntor tripolar 50A | C38: pç | D38: 2
A39: 04.10 | B39: Disjuntor tripolar 200A | C39: pç | D39: 1
A40: 04.11 | B40: Disjuntor tripolar 250A | C40: pç | D40: 1
A41: 04.12 | B41: Disjuntor tripolar 80A | C41: pç | D41: 2
... A141: 04.112 | B141: Fornecimento e montagem de QGBT conforme projeto | C141: pç | D141: 1
A142: TOTAL DO ITEM 04
A143: 5 | B143: INSTALAÇÕES HIDRO SANITÁRIAS
A144: 05.01 | B144: PONTO DE ÁGUA FRIA TUBO PVC 1 1/4" | C144: un. | D144: 102
A145: 05.02 | B145: PONTO ESGOTO PRIMÁRIO/ TUBO PVC 100MM | C145: un. | D145: 122
A146: 05.03 | B146: VÁLVULA DE DESCARGA Ø 1 ½” | C146: pç | D146: 11
A147: 05.04 | B147: REGISTRO DE GAVETA Ø 3/4” | C147: pç | D147: 18
A148: 05.05 | B148: CAIXA SIFONADA COM GRELHA 100x40mm | C148: un. | D148: 22
A149: 05.06 | B149: VÁLVULA DE DESCARGA PARA MICTÓRIO | C149: un. | D149: 9
A150: TOTAL DO ITEM 05
A151: 6 | B151: METAIS E ACESSÓRIOS
A152: 06.01 | B152: LAVATÓRIO LOUÇA BRANCA DE EMBUTIR(CUBA) MÉD LUXO 52X39CM C/ LADRÃO | C152: un. | D152: 2
A153: 06.02 | B153: PORTA PAPEL DE LOUÇA BRANCA DE 15X15CM FORNECIMENTO E COLOCAÇÃO | C153: un. | D153: 19
A154: 06.03 | B154: SABONETEIRA DE LOUÇA BRANCA DE 15X15CM S/ ALÇA FORNECIMENTO E COLOCAÇÃO | C154: un. | D154: 14
A155: 06.04 | B155: BANCA GRANITO AMÊNDOA L=60CM E=3CM EM PAREDE, S/ APOIO | C155: m² | D155: 20.6
A156: 06.05 | B156: BANCA AÇO INOXIDÁVEL 200X60CM C/ 2 CUBAS INOX EM PAREDE,SEM COMPLEMENTO | C156: un. | D156: 1
A157: 06.06 | B157: TORNEIRA PRESSÃO CROMADA LONGA 3/4" PAREDE P/ PIA | C157: un. | D157: 12
A158: 06.07 | B158: MISTURADOR CROMADO - P/ LAVATÓRIO | C158: un. | D158: 8
A159: 06.08 | B159: BACIA SANITÁRIA COM CAIXA ACOPLADA | C159: un. | D159: 8
A160: 06.09 | B160: BACIA SANITÁRIA CONVENCIONAL | C160: un. | D160: 7
A161: 06.10 | B161: MICTÓRIO EM LOUÇA | C161: un. | D161: 5
A162: 06.11 | B162: CHUVEIRO ELÉTRICO | C162: un. | D162: 12
A163: 06.12 | B163: TANQUE EM AÇO ESCOVADO | C163: un. | D163: 2
... A170: 06.19 | B170: CUBA EM AÇO INOX, INCLUSIVE VÁLVULA E SIFÃO | C170: un. | D170: 8
A171: TOTAL DO ITEM 06
A172: 7 | B172: REVESTIMENTO INTERNO
A173: 07.01 | B173: CHAPISCO ARGAMASSA CIMENTO/AREIA 1:3 C/ SIKA 1 E=0,5CM | C173: m² | D173: 883.85
A174: 07.02 | B174: REBOCO PAULISTA C/ ARG. CIM/CAL/AREIA 1:2:8 PREP MECÂNICO E=2CM | C174: m² | D174: 1221.02
A175: 07.03 | B175: EMBOÇO PAULISTA CIMENTO/AREIA 1:6 E=2,5CM | C175: m² | D175: 259.04
A176: 07.04 | B176: ASSENTAMENTO AZULEJO BRANCO 15X15CM C/ ARG. COLANTE INCLUI EMBOÇO C/ ARG. DE CAL/AREIA 1:4 + 130KG DE CIMENTO E=2CM (JUNTA A PRUMO) | C176: m² | D176: 737.94
A177: 07.05 | B177: CHAPISCO ARGAMASSA CIMENTO/AREIA 1:3 C/ SIKA 1 E=0,5CM | C177: m² | D177: 1014.29
A178: 07.06 | B178: REBOCO PAULISTA C/ ARG. CIM/CAL/AREIA 1:2:8 PREP. MECÂNICO E=2CM | C178: m² | D178: 1014.29
A179: 07.07 | B179: PEITORIL ARDÓSIA 2X15CM | C179: m² | D179: 23.3
A180: TOTAL DO ITEM 07
A181: 8 | B181: REVESTIMENTO EXTERNO
A182: 08.01 | B182: CHAPISCO ARGAMASSA CIMENTO/AREIA 1:3 C/ SIKA1 E=0,5CM | C182: m² | D182: 1998.83
A183: 08.02 | B183: REBOCO PAULISTA C/ ARG. CIM/CAL/AREIA 1:2:8 PREP. MECÂNICO E=2CM | C183: m² | D183: 1998.83
A184: TOTAL DO ITEM 08
A185: 9 | B185: PISOS INTERNOS
A186: 09.01 | B186: CONTRAPISO (E = 12CM) C/ IMPERM. (E=3cm) | C186: m² | D186: 32.62
A187: 09.02 | B187: PISO CERÂMICO PI-5 | C187: m² | D187: 622.76
A188: 09.03 | B188: RODAPÉ DE CERÂMICA H=8CM | C188: m | D188: 273.57
A189: 09.04 | B189: PISO VINILICO EM MANTA | C189: m² | D189: 51.59
A190: 09.05 | B190: TABLADO DE MADEIRA IPÊ RÉGUAS | C190: m² | D190: 73.54
A191: 09.06 | B191: PEITORIL EM ARDOSIA, LARGURA 15CM | C191: m² | D191: 48.35
A192: TOTAL DO ITEM 09
A193: 10 | B193: ESQUADRIAS DE MADEIRA
A194: 10.01 | B194: PORTA MAD. REGIONAL 2ª 60X210CM 2FLS 60X210X3,5CM C/ MARCO 2ª | C194: un. | D194: 28
A195: 10.02 | B195: PORTA 0,80MX2,10M, COM FECHADURA CILÍNDRICA | C195: un. | D195: 53
A196: 10.03 | B196: PORTA P/ SANITÁRIO 80X160CM COMP MAD 20MM C/ LAMINADO TEXTURIZADO, MARCO | C196: un. | D196: 8
A197: TOTAL DO ITEM 10
A198: 11 | B198: ESQUADRIAS METÁLICAS
A199: 11.01 | B199: JANELA ALUMÍNIO CORRER VENEZIANA C/ BANDEIRA | C199: m² | D199: 90.72
A200: 11.02 | B200: VENEZIANA DE ALUMÍNIO | C200: m² | D200: 380
A201: 11.03 | B201: CORRIMÃO TUBULAR 11/2" H= 92 cm | C201: m | D201: 18
A202: TOTAL DO ITEM 11
A203: 12 | B203: VIDROS
A204: 12.01 | B204: VIDRO LISO INCOLOR E=4,0MM COLOCADO EM ESQUADRIAS DE FERRO/MADEIRA | C204: m² | D204: 114.89
A205: 12.02 | B205: FECHAMENTO EM VIDRO TEMPERADO COM PORTAS | C205: m² | D205: 320
...

Sheet CRONOGRAMA
A1: CRONOGRAMA FÍSICO - FINANCEIRO
A2: CONTRATANTE: UNIVERSIDADE FEDERAL DOS VALES DO JEQUITINHONHA E MUCURI/ MG
A3: Construção do 2º PAVIMENTO DO PRÉDIO DA FISIOTERAPIA
A4: Localização: CAMPUS JK Diamantina/MG
A5: ITEM | B5: DESCRIÇÃO | C5: TOTAL | E5: MES 01 | G5: MES 02 | I5: MES 03 | K5: MES 04 | M5: MES 05 | O5: MES 06
C6: % | D6: VALOR | E6: % | F6: VALOR | G6: % | H6: VALOR | I6: % | J6: VALOR | K6: % | L6: VALOR | M6: % | N6: VALOR | O6: % | P6: VALOR
A7: 1 | B7: =[1]ORÇAMENTO!B5 -> SERVIÇOS PRELIMINARES | C7: =D7/D$24 -> #DIV/0!
A8: 2 | B8: SUPERESTRUTURA | C8: =D8/D$24 -> #DIV/0!
A9: 3 | B9: PAREDES E PAINEIS | C9: =D9/D$24 -> #DIV/0!
A10: 4 | B10: =PLANILHA!B29 -> INSTALAÇÕES ELÉTRICAS | C10: =D10/D$24 -> #DIV/0!
A11: 5 | B11: =PLANILHA!B143 -> INSTALAÇÕES HIDRO SANITÁRIAS | C11: =D11/D$24 -> #DIV/0!
A12: 6 | B12: =PLANILHA!B151 -> METAIS E ACESSÓRIOS | C12: =D12/D$24 -> #DIV/0!
A13: 7 | B13: =PLANILHA!B172 -> REVESTIMENTO INTERNO | C13: =D13/D$24 -> #DIV/0!
A14: 8 | B14: =PLANILHA!B181 -> REVESTIMENTO EXTERNO | C14: =D14/D$24 -> #DIV/0!
A15: 9 | B15: =PLANILHA!B185 -> PISOS INTERNOS | C15: =D15/D$24 -> #DIV/0!
A16: 10 | B16: =PLANILHA!B193 -> ESQUADRIAS DE MADEIRA | C16: =D16/D$24 -> #DIV/0!
A17: 11 | B17: =PLANILHA!B198 -> ESQUADRIAS METÁLICAS | C17: =D17/D$24 -> #DIV/0!
A18: 12 | B18: =PLANILHA!B203 -> VIDROS | C18: =D18/D$24 -> #DIV/0!
A19: 13 | B19: =PLANILHA!B207 -> PINTURA | C19: =D19/D$24 -> #DIV/0!
A20: 14 | B20: =PLANILHA!B214 -> AQUECIMENTO PARA PISCINAS | C20: =D20/D$24 -> #DIV/0!
A21: 15 | B21: =[1]ORÇAMENTO!B391 -> SERVIÇOS COMPLEMENTARES | C21: =D21/D$24 -> #DIV/0!
B24: (R$) SIMPLES
B25: (%) SIMPLES
B27: (R$) ACUMULADO
B28: (%) ACUMULADO
A32: ____________________________________________________________

Sheet Plan3
