Workbook

Sheet PLANILHA
A1: MINISTÉRIO DA EDUCAÇÃO
A2: UNIVERSIDADE FEDERAL DOS VALES DO JEQUITINHONHA E MUCURI
A3: Campus II - Diamantina
A4: 2° PAVIMENTO - PRÉDIO DE FISIOTERAPIA
A5: ORÇAMENTO BÁSICO
A6: ITEM | B6: DISCRIMINAÇÃO | C6: UNID. | D6: QUANT. | E6: PR. UNITÁRIO | F6: VALOR
B7: DOS SERVIÇOS | E7: (R$) | F7: (R$)
A8: 1 | B8: SERVIÇOS PRELIMINARES
A9: 01.01 | B9: ESCRITÓRIO DE OBRA TIPO A (3,30x7,70) EXCETO INST. HIDRÁULICA E ELÉTRICA | C9: m² | D9: 15
A10: 01.02 | B10: FORNECIMENTO E ASSENTAMENTO DE PLACA DA OBRA | C10: m² | D10: 12
A11: 01.03 | B11: LIGAÇÕES PROVISÓRIAS DE ÁGUA/ESGOTO PARA CANTEIRO DE OBRA C/ ESCAVAÇÃO EXCL. REPARO | C11: un. | D11: 2
A12: 01.04 | B12: INSTALAÇÃO/LIGAÇÃO PROVISÓRIA ELÉTRICA BAIXA TENSÃO PARA CANTEIRO DE OBRA | C12: un. | D12: 1
A13: TOTAL DO ITEM 01
A14: 2 | B14: SUPER - ESTRUTURA
A15: 02.01 | B15: FORMA DE MADEIRA COMPENSADA RESINADA 12MM P/ ESTRUTURA REAPROVEITAMENTOS .3 VEZES - CORTE/MONTAGEM/ESCORAMENTO/DESFORMA | C15: m² | D15: =D16*15 -> 1659.45
A16: 02.02 | B16: CONCRETO ESTRUTURAL FCK >= 20,0 MPa, (1:1,5:3) - PREPARADO C/ BETONEIRA 2 | C16: m³ | D16: 110.63
A17: 02.03 | B17: LANÇAMENTO MANUAL DE CONCRETO EM ESTRUTURAS , INCLUSIVE VIBRAÇÃO | C17: m³ | D17: 110.63
A18: 02.04 | B18: ARMAÇÃO AÇO CA50/60 P/ ESTRUTURA | C18: kg | D18: 13109.88
A19: 02.05 | B19: LAJE PRE-MOLDADA BETA 20 P/ 3,5KN/M² INCL. VIGOTAS, TIJOLOS, ARM.NEG. | C19: m² | D19: 1396.49
A20: 02.06 | B20: VERGA 10x10 CM PRE-MOLDADA:CONCR. FCK=15 MPA(PREP. C/ BET.), CA60 / FORMA | C20: m | D20: 161.24
A21: TOTAL DO ITEM 02
A22: 3 | B22: PAREDES E PAINÉIS
A23: 03.01 | B23: ALVENARIA 10CM TIJ. CER. FURADO 10X20X20CM ASSENTES C/ ARGAMASSA DE CIM/AREIA/SAIBRO 1:3:7 | C23: m² | D23: 239.46
A24: 03.02 | B24: ALVENARIA 20CM TIJ. CER. FURADO 10X20X20CM ASSENTES C/ ARGAMASSA DE CIM/AREIA/SAIBRO 1:3:7 | C24: m² | D24: 1117.5
A25: 03.03 | B25: DIVISÓRIA EM ARDÓSIA POLIDA | C25: m² | D25: 10.08
A26: 03.04 | B26: ALVENARIA EM BLOCOS DE CONCRETO 15X20X40CM ASSENTES C/ ARG. CIM:CAL:AREIA 1:1/2:8 (VEDAÇÃO) | C26: m² | D26: 268.8
A27: 03.05 | B27: FORRO DE PVC | C27: m² | D27: 18.75
A28: TOTAL DO ITEM 03
A29: 4 | B29: INSTALAÇÕES ELÉTRICAS
A30: 04.01 | B30: QDC de sobrepor de 54 circuitos | C30: pç | D30: 1
A31: 04.02 | B31: QDC de sobrepor de 32 circuitos | C31: pç | D31: 1
A32: 04.03 | B32: QDC de sobrepor de 12 circuitos | C32: pç | D32: 1
A33: 04.04 | B33: QDC de sobrepor de 18 circuitos | C33: pç | D33: 1
A34: 04.05 | B34: QDC de sobrepor de 24 circuitos | C34: pç | D34: 1
A35: 04.06 | B35: Disjuntor tripolar 40A | C35: pç | D35: 7
A36: 04.07 | B36: Disjuntor tripolar 100A | C36: pç | D36: 1
A37: 04.08 | B37: Disjuntor tripolar 25A | C37: pç | D37: 1
A38: 04.09 | B38: Disjuntor tripolar 50A | C38: pç | D38: 2
A39: 04.10 | B39: Disjuntor tripolar 200A | C39: pç | D39: 1
A40: 04.11 | B40: Disjuntor tripolar 250A | C40: pç | D40: 1
...

Sheet CRONOGRAMA
A1: CRONOGRAMA FÍSICO - FINANCEIRO
A2: CONTRATANTE: UNIVERSIDADE FEDERAL DOS VALES DO JEQUITINHONHA E MUCURI/ MG
A3: Construção do 2º PAVIMENTO DO PRÉDIO DA FISIOTERAPIA
A4: Localização: CAMPUS JK Diamantina/MG
A5: ITEM | B5: DESCRIÇÃO | C5: TOTAL | E5: MES 01 | G5: MES 02 | I5: MES 03 | K5: MES 04 | M5: MES 05 | O5: MES 06
C6: % | D6: VALOR | E6: % | F6: VALOR | G6: % | H6: VALOR | I6: % | J6: VALOR | K6: % | L6: VALOR | M6: % | N6: VALOR | O6: % | P6: VALOR
A7: 1 | B7: =[1]ORÇAMENTO!B5 -> SERVIÇOS PRELIMINARES | C7: =D7/D$24 -> #DIV/0!
A8: 2 | B8: SUPERESTRUTURA | C8: =D8/D$24 -> #DIV/0!
A9: 3 | B9: PAREDES E PAINEIS | C9: =D9/D$24 -> #DIV/0!
A10: 4 | B10: =PLANILHA!B29 -> INSTALAÇÕES ELÉTRICAS | C10: =D10/D$24 -> #DIV/0!
A11: 5 | B11: =PLANILHA!B143 -> INSTALAÇÕES HIDRO SANITÁRIAS | C11: =D11/D$24 -> #DIV/0!
A12: 6 | B12: =PLANILHA!B151 -> METAIS E ACESSÓRIOS | C12: =D12/D$24 -> #DIV/0!
A13: 7 | B13: =PLANILHA!B172 -> REVESTIMENTO INTERNO | C13: =D13/D$24 -> #DIV/0!
A14: 8 | B14: =PLANILHA!B181 -> REVESTIMENTO EXTERNO | C14: =D14/D$24 -> #DIV/0!
A15: 9 | B15: =PLANILHA!B185 -> PISOS INTERNOS | C15: =D15/D$24 -> #DIV/0!
A16: 10 | B16: =PLANILHA!B193 -> ESQUADRIAS DE MADEIRA | C16: =D16/D$24 -> #DIV/0!
A17: 11 | B17: =PLANILHA!B198 -> ESQUADRIAS METÁLICAS | C17: =D17/D$24 -> #DIV/0!
A18: 12 | B18: =PLANILHA!B203 -> VIDROS | C18: =D18/D$24 -> #DIV/0!
A19: 13 | B19: =PLANILHA!B207 -> PINTURA | C19: =D19/D$24 -> #DIV/0!
A20: 14 | B20: =PLANILHA!B214 -> AQUECIMENTO PARA PISCINAS | C20: =D20/D$24 -> #DIV/0!
A21: 15 | B21: =[1]ORÇAMENTO!B391 -> SERVIÇOS COMPLEMENTARES | C21: =D21/D$24 -> #DIV/0!
B24: (R$) SIMPLES
B25: (%) SIMPLES
B27: (R$) ACUMULADO
B28: (%) ACUMULADO
A32: ____________________________________________________________

Sheet Plan3
