Workbook

Sheet PLANILHA
A1: MODELO ORÇAMENTO SINTÉTICO (PROPOSTA DE PREÇOS) MUSEU E ARQUIVO HISTÓRICO CAMPUS PRESIDENTE JUSCELINO KUBITSCHEK - DIAMANTINA - MG
A2: SUBTOTAL SEM BDI | G2: =G262 -> 0
A3: TOTAL DE BDI | G3: =G263 -> 0
A4: SUBTOTAL COM BDI | G4: =G264 -> 0
A5: Item | B5: Código | C5: Descrição | D5: Und | E5: Qtd | F5: R$ Unitário | G5: R$ Subtotal
A6: 1.0 | B6: SERVIÇOS PRELIMINARES
A7: 1.1 | B7: MOB-002 | C7: MOBILIZAÇÃO E DESMOBILIZAÇÃO DE OBRA - PARA OBRAS EXECUTADAS EM CENTROS URBANOS OU PRÓXIMOS DE CENTROS URBANOS - CONF. DEMOSTRATIVO EM ANEXO | D7: und | E7: 1 | G7: =E7*F7 -> 0
A8: 1.2 | B8: ADM-001 | C8: ADMINISTRAÇÃO LOCAL - CONF. DEMOSTRATIVO EM ANEXO | D8: und | E8: 1 | G8: =E8*F8 -> 0
A9: SUBTOTAL | G9: =SUM(G7:G8) -> 0
A10: 2.0 | B10: CANTEIRO DE OBRAS
A11: 2.1 | B11: SINAPI - 74209/001 | C11: PLACA DE OBRA EM CHAPA DE ACO GALVANIZADO | D11: m² | E11: 9 | G11: =E11*F11 -> 0
A12: 2.2 | B12: SINAPI - 3805/001 | C12: BARRACAO DE OBRA PARA ALOJAMENTO/ESCRITORIO, PISO EM PINHO 3A, PAREDES EM COMPENSADO 10MM, COBERTURA EM TELHA AMIANTO 6MM, INCLUSO INSTALACO ES ELETRICAS E ESQUADRIAS | D12: m² | E12: 25 | G12: =E12*F12 -> 0
A13: 2.3 | B13: SINAPI - 74242/001 | C13: BARRACAO DE OBRA EM CHAPA DE MADEIRA COMPENSADA COM BANHEIRO, COBERTURA EM FIBROCIMENTO 4 MM, INCLUSO INSTALACOES HIDRO-SANITARIAS E ELETRICAS | D13: m² | E13: 86 | G13: =E13*F13 -> 0
A14: 2.4 | B14: SINAPI - 74210/001 | C14: BARRACAO PARA DEPOSITO EM TABUAS DE MADEIRA, COBERTURA EM FIBROCIMENTO 4 MM, INCLUSO PISO ARGAMASSA TRAÇO 1:6 (CIMENTO E AREIA) | D14: m² | E14: 25.41 | G14: =E14*F14 -> 0
A15: 2.5 | B15: SINAPI - 73960/001 | C15: INSTAL/LIGACAO PROVISORIA ELETRICA BAIXA TENSAO P/CANT OBRA OBRA,M3-CHAVE 100A CARGA 3KWH,20CV EXCL FORN MEDIDOR | D15: und | E15: 1 | G15: =E15*F15 -> 0
A16: 2.6 | B16: SINAPI - 73659-74218/001-74217/002 | C16: INSTAL/LIGACAO PROVISORIA DE AGUA EXCL FORN MEDIDOR | D16: und | E16: 2 | G16: =E16*F16 -> 0
A17: 2.7 | B17: SINAPI - 73784/002 | C17: LIGAÇÃO DE ESGOTO EM TUBO PVC ESGOTO SÉRIE-R DN 150MM, DA CAIXA ATÉ A REDE, INCLUINDO ESCAVAÇÃO E REATERRO ATÉ 1,00M, COMPOSTO POR 13,65M TUBO PVC SÉRIE-R ESGOTO DN 150MM - FORNECIMENTO E INSTALAÇÃO DE | D17: und | E17: 2 | G17: =E17*F17 -> 0
A18: 2.8 | B18: SINAPI - 74220/001 | C18: TAPUME DE CHAPA DE MADEIRA COMPENSADA (6MM) - PINTURA A CAL- APROVEITAMENTO 2 X | D18: m² | E18: 316.55 | G18: =E18*F18 -> 0
A19: 2.9 | B19: SINAPI - 74077/001 | C19: LOCACAO CONVENCIONAL DE OBRA, ATRAVÉS DE GABARITO DE TABUAS CORRIDAS PONTALETADAS, SEM REAPROVEITAMENTO | D19: m² | E19: 3844 | G19: =E19*F19 -> 0
A20: SUBTOTAL | G20: =SUM(G11:G19) -> 0
A21: 3.0 | B21: MOVIMENTO DE TERRA
A22: 3.1 | B22: SINAPI - 73822/002 | C22: LIMPEZA DE TERRENO - RASPAGEM MECANIZADA (MOTONIVELADORA) DE CAMADA VEGETAL | D22: m² | E22: 4844 | G22: =E22*F22 -> 0
A23: 3.2 | B23: SETOP -TER-ATE-010 | C23: ATERRO COMPACTADO COM PLACA VIBRATÓRIA | D23: m² | E23: 2794.33 | G23: =E23*F23 -> 0
A24: 3.3 | B24: SINAPI - 74151/001 | C24: ESCAVACAO E CARGA MATERIAL 1A CATEGORIA, UTILIZANDO TRATOR DE ESTEIRAS DE 110 A 160HP COM LAMINA, PESO OPERACIONAL * 13T E PA CARREGADEIRA COM 170 HP. | D24: m² | E24: 686.52 | G24: =E24*F24 -> 0
A25: 3.4 | B25: SINAPI - 74140/003 | C25: CARGA, TRANSPORTE E DESCARGA MECANICA ATE 10,00 KM | D25: m³ | E25: 2107.81 | G25: =E25*F25 -> 0
G26: =SUM(G22:G25) -> 0
A27: 4.0 | B27: FUNDAÇÃO
A28: 4.1 | B28: SINAPI - 73447 | C28: ESCAVACAO MANUAL DE VALAS EM TERRA COMPACTA, PROF. 2 M < H <= 3 M | D28: m³ | E28: 555.42 | G28: =E28*F28 -> 0
A29: 4.2 | B29: SINAPI - 73965/001 | C29: REGULARIZACAO E COMPACTACAO MANUAL DE TERRENO COM SOQUETE | D29: m² | E29: 450 | G29: =E29*F29 -> 0
A30: 4.3 | B30: SINAPI - 73964/006 | C30: REATERRO MANUAL DE VALAS | D30: m³ | E30: 30 | G30: =E30*F30 -> 0
A31: 4.4 | B31: SINAPI - 74115/001 | C31: EXECUÇÃO DE LASTRO EM CONCRETO (1:2,5:6), PREPARO MANUAL | D31: m³ | E31: 25.02 | G31: =E31*F31 -> 0
A32: 4.5 | B32: SINAPI - 73972/001 | C32: CONCRETO ESTRUTURAL FCK=25MPA, VIRADO EM BETONEIRA, NA OBRA, SEM LANÇAMENTO | D32: m³ | E32: 500.4 | G32: =E32*F32 -> 0
A33: 4.6 | B33: SINAPI - 74023/002 | C33: TRANSPORTE HORIZONTAL DE MATERIAIS DIVERSOS A 40M | D33: m³ | E33: 500.4 | G33: =E33*F33 -> 0
A34: 4.7 | B34: SINAPI - 74157/001 | C34: LANÇAMENTO E ADENSAMENTO DE CONCRETO EM FUNDAÇÕES. | D34: m³ | E34: 500.4 | G34: =E34*F34 -> 0
A35: 4.8 | B35: SINAPI - 74074/002 | C35: FORMA PINHO 3A P/CONCRETO EM FUNDAÇÃO REAPROV 3 VEZES - CORTE/MONTAGEM /ESCORAMENTO/DESFORMA, NÃO INCLUÍDO DEMOLDANTE | D35: m² | E35: 1472.5 | G35: =E35*F35 -> 0
A36: 4.9 | B36: SINAPI - 74254/002 | C36: ARMACAO ACO CA-50, DIAM. 6,3 (1/4) À 12,5MM(1/2) -FORNECIMENTO/ CORTE(PERDA DE 10%) / DOBRA / COLOCAÇÃO. | D36: kg | E36: 8401.3 | G36: =E36*F36 -> 0
A37: SUBTOTAL | G37: =SUM(G28:G36) -> 0
A38: 5.0 | B38: IMPERMEABILIZAÇÃO
A39: 5.1 | B39: SINAPI - 74106/001 | C39: IMPERMEABILIZAÇÃO COM TINTA BETUMINOSA EM FUNDAÇOES, BALDRAMES, EM DUAS DEMAOS | D39: m² | E39: 249.054 | G39: =E39*F39 -> 0
A40: SUBTOTAL | G40: =SUM(G39) -> 0
...

Sheet COMP. DE CUSTO
A1: ANEXO XII - MODELO COMPOSIÇÃO CUSTOS UNITÁRIOS ( PLANILHA ANALÍTICA - DEMONSTRAÇÃO PROPOSTA DE PREÇOS) MUSEU E ARQUIVO HISTÓRICO CAMPUS PRESIDENTE JUSCELINO KUBITSCHEK - DIAMANTINA - MG
A2: 1.0 | B2: SERVIÇOS PRELIMINARES
A3: 1.1 | B3: MOB-002 | C3: MOBILIZAÇÃO E DESMOBILIZAÇÃO DE OBRA - PARA OBRAS EXECUTADAS EM CENTROS URBANOS OU PRÓXIMOS DE CENTROS URBANOS - CONF. DEMOSTRATIVO EM ANEXO
A5: 1.2 | B5: ADM-001 | C5: ADMINISTRAÇÃO LOCAL - CONF. DEMOSTRATIVO EM ANEXO
B6: SETOP -ADM-ENC-005 | C6: ENCARREGADO DE OBRA | D6: Mês | E6: 12 | G6: =E6*F6 -> 0
B7: SETOP -ADM-APO-005 | C7: APONTADOR | D7: Mês | E7: 12 | G7: =E7*F7 -> 0
B8: SETOP -ADM-ENG-010 | C8: ENGENHEIRO DE OBRAS PLENO - ENG CIVIL | D8: Mês | E8: 12 | G8: =E8*F8 -> 0
B9: SETOP -ADM-ENG-011 | C9: ENGENHEIRO DE OBRAS PLENO ENG ELETRICISTA | D9: Mês | E9: 3 | G9: =E9*F9 -> 0
B10: SETOP -ADM-TEC-010 | C10: TÉCNICO DE SEGURANÇA DO TRABALHO | D10: Mês | E10: 12 | G10: =E10*F10 -> 0
B11: SETOP -MST-PCM-005 | C11: PCMAT | D11: Und | E11: 1 | G11: =E11*F11 -> 0
B12: SETOP -MST-PCM-006 | C12: PCMSO | D12: Und | E12: 12 | G12: =E12*F12 -> 0
B13: SETOP -DES-CES-005 | C13: CESTA BÁSICA | D13: und | E13: =100*12 -> 1200 | G13: =E13*F13 -> 0
B14: SETOP -DES-TRA-005 | C14: TRANSPORTE PESSOAL - VALE TRANSPORTE | D14: und | E14: =100*2*22*12 -> 52800 | G14: =E14*F14 -> 0
B15: SETOP -CON-AGU-015 | C15: CONSUMO DE ÁGUA - OBRAS COM VALOR ACIMA DE 3.000.000,01 | D15: Mês | E15: 12 | G15: =-E15*F15 -> 0
B16: SETOP -CON-ELE-015 | C16: CONSUMO DE ENERGIA - OBRAS COM VALOR ACIMA DE 3.000.000,01 | D16: Mês | E16: 12 | G16: =-E16*F16 -> 0
B17: SETOP -CON-ESC-015 | C17: MATERIAL DE ESCRITORIO - OBRAS COM VALOR ACIMA D E 3.000.000,01 | D17: Mês | E17: 12 | G17: =E17*F17 -> 0
B18: SETOP -CON-LIM-015 | C18: MATERIAL DELIMPEZA - OBRAS COM VALOR ACIMA DE 3.000.000,01 | D18: Mês | E18: 12 | G18: =E18*F18 -> 0
B19: SETOP -MST-AQU-005 | C19: AQUECEDOR DE MARMITA | D19: und | E19: 5 | G19: =E19*F19 -> 0
B20: SETOP -MST-EXA-005 | C20: EXAME ADMISSIONAL/DEMISSIONAL | D20: und | E20: 600 | G20: =E20*F20 -> 0
B21: SETOP -EPI-BOT-005 | C21: BOTINA SOLADO INJETADO DE AMARRAR PVC - PAR | D21: und | E21: 1200 | G21: =E21*F21 -> 0
B22: SETOP -EPI-CAP-025 | C22: CAPACETE UNIVERSO | D22: und | E22: 400 | G22: =E22*F22 -> 0
B23: SETOP -EPI-CAP-040 | C23: CARNEIRA MÓVEL | D23: und | E23: 500 | G23: =E23*F23 -> 0
B24: SETOP -EPI-CIN-005 | C24: CINTO DE SEGURANÇA TIPO PÁRA-QUEDISTA | D24: und | E24: 50 | G24: =E24*F24 -> 0
B25: SETOP -EPI-LUV-015 | C25: LUVA DE RASPA CANO CURTO - PAR | D25: und | E25: 700 | G25: =E25*F25 -> 0
B26: SETOP -EPI-UNI-005 | C26: UNIFORME | D26: und | E26: 600 | G26: =E26*F26 -> 0
B27: SETOP -FER-CAR-015 | C27: CARRINHOS CAPACIDADE DE 80 L COM RODA DE PNEU REFORÇADO | D27: und | E27: 100 | G27: =E27*F27 -> 0
B28: SETOP -FER-DIS-005 | C28: DISCO PARA MAKITA | D28: und | E28: 200 | G28: =E28*F28 -> 0
B29: SETOP -FER-DIS-015 | C29: DISCO PARA SERRA CIRCULAR | D29: und | E29: 40 | G29: =E29*F29 -> 0
B30: VALOR TOTAL DO ITEM | G30: =SUM(G6:G29) -> 0

Sheet CRONOGRAMA,
A1: MUSEU E ARQUIVO HISTÓRICO CAMPUS PRESIDENTE JUSCELINO KUBITSCHEK - DIAMANTINA - MG CRONOGRAMA FISICO FINANCEIRO
A2: ITEM | B2: DESCRIÇÃO | C2: TOTAL | E2: 1 MÊS | G2: 2 MÊS | I2: 3 MÊS | K2: 4 MÊS | M2: 5 MÊS | O2: 6 MÊS | Q2: 7 MÊS | S2: 8 MÊS | U2: 9 MÊS | W2: 10 MÊS | Y2: 11 MÊS | AA2: 12 MÊS
C3: % | D3: VALOR | E3: % | F3: VALOR | G3: % | H3: VALOR | I3: % | J3: VALOR | K3: % | L3: VALOR | M3: % | N3: VALOR | O3: % | P3: VALOR | Q3: % | R3: VALOR | S3: % | T3: VALOR | U3: % | V3: VALOR | W3: % | X3: VALOR | Y3: % | Z3: VALOR | AA3: % | AB3: VALOR
A4: 01.00 | B4: =PLANILHA!B6 -> SERVIÇOS PRELIMINARES
A5: 02.00 | B5: =PLANILHA!B10 -> CANTEIRO DE OBRAS
A6: 03.00 | B6: =PLANILHA!B21 -> MOVIMENTO DE TERRA
A7: 04.00 | B7: =PLANILHA!B27 -> FUNDAÇÃO
A8: 05.00 | B8: =PLANILHA!B38 -> IMPERMEABILIZAÇÃO
A9: 06.00 | B9: =PLANILHA!B41 -> ESTRUTURAL
A10: 07.00 | B10: =PLANILHA!B49 -> ALVENARIAS
A11: 08.00 | B11: =PLANILHA!B56 -> COBERTURA
A12: 09.00 | B12: =PLANILHA!B64 -> PISO
A13: 10.00 | B13: =PLANILHA!B72 -> ESQUADRIAS
A14: 11.00 | B14: =PLANILHA!B87 -> REVESTIMENTOS
A15: 12.00 | B15: =PLANILHA!B96 -> PINTURA
A16: 13.00 | B16: =PLANILHA!B109 -> INSTALAÇÕES ELETRICA
A17: 14.00 | B17: =PLANILHA!B148 -> INSTALAÇÕES DE SPDCA
A18: 15.00 | B18: =PLANILHA!B166 -> INSTALAÇÕES DE INCÊNDIO
A19: 16.00 | B19: =PLANILHA!B176 -> INSTALAÇÃO DE AGUAFRIA
A20: 17.00 | B20: =PLANILHA!B194 -> INSTALAÇÃO DE ESGOTO
A21: 18.00 | B21: =PLANILHA!B223 -> LOUCAS E ACESSORIOS
A22: 19.00 | B22: =PLANILHA!B238 -> CONCLUSÃO E LIMPEZA DA OBRA
A23: 20.00 | B23: =PLANILHA!B254 -> EQUIPAMENTOS
B25: (R$) SIMPLES
B26: (%) SIMPLES
B28: (R$) ACUMULADO
B29: (%) ACUMULADO
A31: Pagina 03 de 03
