Workbook

Sheet ORÇAMENTO
A1: ANEXO XI - MODELO ORÇAMENTO SINTÉTICO (PROPOSTA DE PREÇOS)
A2: URBANIZAÇÃO 2 ETAPA
A3: CAMPUS JK - DIAMANTINA
A4: PLANILHA DE ORÇAMENTO BÁSICO
A5: ITEM | B5: CÓDIGO | C5: DISCRIMINAÇÃO | D5: UNID. | E5: QUANT. | F5: PREÇO UNITÁRIO | G5: PREÇO TOTAL
A6: 1.0 | B6: SETOP - MOB-002 | C6: MOBILIZAÇÃO E DESMOBILIZAÇÃO DE OBRA - PARA OBRAS EXECUTADAS EM CENTROS URBANOS OU PRÓXIMOS DE CENTROS URBANOS - CONF. DEMOSTRATIVO EM ANEXO | D6: UN | F6: 0.005 | G6: =ROUND(E6*F6,2) -> 0
A7: 2.0 | B7: SETOP - ADM-001 | C7: ADMINISTRAÇÃO LOCAL - CONF. DEMOSTRATIVO EM ANEXO | D7: UN | E7: 1 | F7: =AC!G7 -> 0 | G7: =ROUND(E7*F7,2) -> 0
A8: 3.0 | B8: SERVIÇOS PRELIMINARES
A9: 3.1 | B9: SINAPI - 74209/001 | C9: PLACA DE OBRA EM CHAPA DE ACO GALVANIZADO | D9: M2 | E9: 9 | F9: =COMPOSIÇÕES!G25 -> 0 | G9: =ROUND(E9*F9,2) -> 0
A10: 3.2 | B10: SINAPI - 73805/001 | C10: BARRACAO DE OBRA PARA ALOJAMENTO/ESCRITORIO, PISO EM PINHO 3A, PAREDES EM COMPENSADO 10MM, COBERTURA EM TELHA AMIANTO 6MM, INCLUSO INSTALACO ES ELETRICAS E ESQUADRIAS | D10: M2 | E10: 25 | F10: =COMPOSIÇÕES!G60 -> 0 | G10: =ROUND(E10*F10,2) -> 0
A11: 3.3 | B11: SINAPI - 74242/001 | C11: BARRACAO DE OBRA EM CHAPA DE MADEIRA COMPENSADA COM BANHEIRO, COBERTURA EM FIBROCIMENTO 4 MM, INCLUSO INSTALACOES HIDRO-SANITARIAS E ELETRICAS | D11: M2 | E11: 86 | F11: =COMPOSIÇÕES!G100 -> 0 | G11: =ROUND(E11*F11,2) -> 0
A12: 3.4 | B12: SINAPI - 74210/001 | C12: BARRACAO PARA DEPOSITO EM TABUAS DE MADEIRA, COBERTURA EM FIBROCIMENTO 4 MM, INCLUSO PISO ARGAMASSA TRAÇO 1:6 (CIMENTO E AREIA) | D12: M2 | E12: 25.41 | F12: =COMPOSIÇÕES!G117 -> 0 | G12: =ROUND(E12*F12,2) -> 0
A13: 3.5 | B13: SINAPI - 73960/001 | C13: INSTAL/LIGACAO PROVISORIA ELETRICA BAIXA TENSAO P/CANT OBRA OBRA,M3-CHAVE 100A CARGA 3KWH,20CV EXCL FORN MEDIDOR | D13: UN | E13: 1 | F13: =COMPOSIÇÕES!G135 -> 0 | G13: =ROUND(E13*F13,2) -> 0
A14: 3.6 | B14: SINAPI - 73659-74218/001-74217/002 | C14: INSTAL/LIGACAO PROVISORIA DE AGUA EXCL FORN MEDIDOR | D14: UN | E14: 1 | F14: =COMPOSIÇÕES!G165 -> 0 | G14: =ROUND(E14*F14,2) -> 0
A15: 3.7 | B15: SINAPI - 73784/002 | C15: LIGAÇÃO DE ESGOTO EM TUBO PVC ESGOTO SÉRIE-R DN 150MM, DA CAIXA ATÉ A REDE, INCLUINDO ESCAVAÇÃO E REATERRO ATÉ 1,00M, COMPOSTO POR 13,65M TUBO PVC SÉRIE-R ESGOTO DN 150MM - FORNECIMENTO E INSTALAÇÃO DE | D15: UN | E15: 1 | F15: =COMPOSIÇÕES!G174 -> 0 | G15: =ROUND(E15*F15,2) -> 0
A16: 3.8 | B16: SINAPI - 74220/001 | C16: TAPUME DE CHAPA DE MADEIRA COMPENSADA (6MM) - PINTURA A CAL- APROVEITAMENTO 2 X | D16: M2 | E16: 180 | F16: =COMPOSIÇÕES!G183 -> 0 | G16: =ROUND(E16*F16,2) -> 0
A17: 3.9 | B17: SETOP - LOC-TOP-015 | C17: LOCAÇÃO TOPOGRÁFICA ACIMA DE 50 PONTOS | D17: PT | E17: 128 | F17: =COMPOSIÇÕES!G198 -> 0 | G17: =ROUND(E17*F17,2) -> 0
B18: SUBTOTAL | G18: =SUM(G9:G17) -> 0
A19: 4.0 | B19: MOVIMENTAÇÃO DE TERRA
A20: 4.1 | B20: SICRO 2 - 5 S 02 201 00 | C20: RECOMPOSIÇÃO CAMADA DE BASE S/ ADIÇÃO DE MATERIAL | D20: M2 | E20: 36990 | F20: =COMPOSIÇÕES!G214 -> 0 | G20: =ROUND(E20*F20,2) -> 0
A21: 4.2 | B21: SICRO 2 - 2 S 02 110 00 | C21: REGULARIZAÇÃO DO SUBLEITO | D21: M2 | E21: 14950 | F21: =COMPOSIÇÕES!G230 -> 0 | G21: =ROUND(E21*F21,2) -> 0
A22: 4.3 | B22: SICRO 2 - 2 S 02 200 00 | C22: SUB-BASE SOLO ESTABILIZADO GRANUL. S/ MISTURA | D22: M3 | E22: 2990 | F22: =COMPOSIÇÕES!G250 -> 0 | G22: =ROUND(E22*F22,2) -> 0
A23: 4.4 | B23: SICRO 2 - 2 S 02 200 01 | C23: BASE SOLO ESTABILIZADO GRANUL. S/ MISTURA | D23: M3 | E23: 2990 | F23: =COMPOSIÇÕES!G270 -> 0 | G23: =ROUND(E23*F23,2) -> 0
A24: 4.5 | B24: SINAPI - 74152/001 | C24: ESCAVACAO E CARGA DE MATERIAL DE JAZIDA 1A CAT UTILIZANDO TRATOR SOBRE ESTEIRAS 305 HP C/ LAMINA (VU=10ANOS / 20.000H) | D24: M3 | E24: 5980 | F24: =COMPOSIÇÕES!G278 -> 0 | G24: =ROUND(E24*F24,2) -> 0
A25: 4.6 | B25: SINAPI - 5626 | C25: TRANSPORTE DE MATERIAL DE QUALQURE NATUREXA DMT > 10 KM | D25: T/KM | E25: 348.83333 | F25: =COMPOSIÇÕES!G288 -> 0 | G25: =ROUND(E25*F25,2) -> 0
B26: SUBTOTAL | G26: =SUM(G20:G25) -> 0
A27: 5.0 | B27: PAVIMENTAÇÃO
A28: 5.1 | B28: SETOP - URB-MFC-020 | C28: REMOÇÃO E REASSENTAMENTO DE MEIO-FIO PRÉ-MOLDADO DE CONCRETO COM REAPROVEITAMENTO | D28: M | E28: 147 | F28: =COMPOSIÇÕES!G295 -> 0 | G28: =ROUND(E28*F28,2) -> 0
A29: 5.2 | B29: SETOP- DEM-SAR-005 | C29: DEMOLIÇÃO DE SARJETA OU SARJETÃO DE CONCRETO | D29: M | E29: 147 | F29: =COMPOSIÇÕES!G301 -> 0 | G29: =ROUND(E29*F29,2) -> 0
A30: 5.3 | B30: SINAPI - 72967 | C30: MEIO-FIO DE CONCRETO PRE-MOLDADO 12 X 30 CM, SOBRE BASE DE CONCRETO SIMPLES E REJUNTADO COM ARGAMASSA TRACO 1:3 (CIMENTO E AREIA) | D30: M | E30: 21170 | F30: =COMPOSIÇÕES!G314 -> 0 | G30: =ROUND(E30*F30,2) -> 0
A31: 5.4 | B31: SINAPI - 74012/001 | C31: SARJETA EM CONCRETO, PREPARO MANUAL, COM SEIXO ROLADO, ESPESSURA = 8CM, LARGURA 50 CM | D31: M | E31: 21170 | F31: =COMPOSIÇÕES!G323 -> 0 | G31: =ROUND(E31*F31,2) -> 0
A32: 5.5 | B32: SINAPI - 73849/002 | C32: AREIA ASFALTO A FRIO (AAUF), COM CAP 50/70 INCLUSO USINAGEM E APLICACAO, EXCLUSIVE TRANSPORTE | D32: M3 | E32: 1407 | F32: =COMPOSIÇÕES!G340 -> 0 | G32: =ROUND(E32*F32,2) -> 0
A33: 5.6 | B33: SINAPI - 72875 | C33: TRANSPORTE LOCAL COM CAMINHAO BASCULANTE 6 M3, RODOVIA COM REVESTIMENTO PRIMARIO | D33: M3XKM | E33: 2996.91 | F33: =COMPOSIÇÕES!G345 -> 0 | G33: =ROUND(E33*F33,2) -> 0
A34: 5.7 | B34: SINAPI | C34: PAVIMENTACAO EM PEDRA DE MÃO SOBRE COLCHAO DE AREIA 10CM, REJUNTADO COM AREIA | D34: M2 | E34: 37870 | F34: =COMPOSIÇÕES!G355 -> 0 | G34: =ROUND(E34*F34,2) -> 0
A35: 5.8 | B35: SINAPI - 73892/002 | C35: EXECUÇÃO DE CALÇADA EM CONCRETO 1:3:5 (FCK=12 MPA) PREPARO MECÂNICO,E= 7CM | D35: M2 | E35: 12147.5 | F35: =COMPOSIÇÕES!G367 -> 0 | G35: =ROUND(E35*F35,2) -> 0
A36: 5.9 | B36: SINAPI - 74236/001 | C36: GRAMA BATATAIS EM PLACAS | D36: M2 | E36: 18650 | F36: =COMPOSIÇÕES!G376 -> 0 | G36: =ROUND(E36*F36,2) -> 0
B37: SUBTOTAL | G37: =SUM(G28:G36) -> 0
A38: 6.0 | B38: ABRIGO DE ÔNIBUS
A39: 6.1 | B39: SETOP - URB-MFC-020 | C39: REMOÇÃO E REASSENTAMENTO DE MEIO-FIO PRÉ-MOLDADO DE CONCRETO COM REAPROVEITAMENTO | D39: M | E39: 450 | F39: =COMPOSIÇÕES!G383 -> 0 | G39: =ROUND(E39*F39,2) -> 0
A40: 6.2 | B40: SETOP- DEM-SAR-005 | C40: DEMOLIÇÃO DE SARJETA OU SARJETÃO DE CONCRETO | D40: M | E40: 225 | F40: =COMPOSIÇÕES!G389 -> 0 | G40: =ROUND(E40*F40,2) -> 0
...

Sheet AC
A2: URBANIZAÇÃO 2 ETAPA
A3: CAMPUS PRESIDENTE JUSCELINO KUBITSCHEK - DIAMANTINA - MG
A4: COMPOSIÇÃO DE CUSTO - ADMINISTRAÇÃO LOCAL
A6: ITEM | B6: CÓDIGO | C6: DESCRIÇÃO | D6: UN | E6: QTD | F6: R$ UNITÁRIO | G6: R$ SUBTOTAL
F7: TOTAL GERAL» | G7: =SUM(G9:G31) -> 0
C8: ADMINISTRAÇÃO LOCAL
B9: ADM-ENC-005 | C9: ENCARREGADO DE OBRA | D9: Mês | E9: 5 | G9: =E9*F9 -> 0
B10: ADM-APO-005 | C10: APONTADOR | D10: Mês | E10: 5 | G10: =E10*F10 -> 0
B11: ADM-ENG-010 | C11: ENGENHEIRO DE OBRAS PLENO - ENG CIVIL | D11: Mês | E11: 5 | G11: =E11*F11 -> 0
B12: ADM-TEC-010 | C12: TÉCNICO DE SEGURANÇA DO TRABALHO | D12: Mês | E12: 5 | G12: =E12*F12 -> 0
B13: MST-PCM-005 | C13: PCMAT | D13: Und | E13: 1 | G13: =E13*F13 -> 0
B14: MST-PCM-006 | C14: PCMSO | D14: Und | E14: 5 | G14: =E14*F14 -> 0
B15: DES-CES-005 | C15: CESTA BÁSICA | D15: und | E15: =40*5 -> 200 | G15: =E15*F15 -> 0
B16: DES-TRA-005 | C16: TRANSPORTE PESSOAL - VALE TRANSPORTE | D16: und | E16: =40*2*22*5 -> 8800 | G16: =E16*F16 -> 0
B17: CON-AGU-015 | C17: CONSUMO DE ÁGUA - OBRAS COM VALOR ACIMA DE 3.000.000,01 | D17: Mês | E17: 5 | G17: =-E17*F17 -> 0
B18: CON-ELE-015 | C18: CONSUMO DE ENERGIA - OBRAS COM VALOR ACIMA DE 3.000.000,01 | D18: Mês | E18: 5 | G18: =-E18*F18 -> 0
B19: CON-ESC-015 | C19: MATERIAL DE ESCRITORIO - OBRAS COM VALOR ACIMA D E 3.000.000,01 | D19: Mês | E19: 5 | G19: =E19*F19 -> 0
B20: CON-LIM-015 | C20: MATERIAL DELIMPEZA - OBRAS COM VALOR ACIMA DE 3.000.000,01 | D20: Mês | E20: 5 | G20: =E20*F20 -> 0
B21: MST-AQU-005 | C21: AQUECEDOR DE MARMITA | D21: und | E21: 3 | G21: =E21*F21 -> 0
B22: MST-EXA-005 | C22: EXAME ADMISSIONAL/DEMISSIONAL | D22: und | E22: 100 | G22: =E22*F22 -> 0
B23: EPI-BOT-005 | C23: BOTINA SOLADO INJETADO DE AMARRAR PVC - PAR | D23: und | E23: 200 | G23: =E23*F23 -> 0
B24: EPI-CAP-025 | C24: CAPACETE UNIVERSO | D24: und | E24: 67 | G24: =E24*F24 -> 0
B25: EPI-CAP-040 | C25: CARNEIRA MÓVEL | D25: und | E25: 83 | G25: =E25*F25 -> 0
B26: EPI-CIN-005 | C26: CINTO DE SEGURANÇA TIPO PÁRA-QUEDISTA | D26: und | E26: 8 | G26: =E26*F26 -> 0
B27: EPI-LUV-015 | C27: LUVA DE RASPA CANO CURTO - PAR | D27: und | E27: 117 | G27: =E27*F27 -> 0
B28: EPI-UNI-005 | C28: UNIFORME | D28: und | E28: 100 | G28: =E28*F28 -> 0
B29: FER-CAR-015 | C29: CARRINHOS CAPACIDADE DE 80 L COM RODA DE PNEU REFORÇADO | D29: und | E29: 20 | G29: =E29*F29 -> 0
B30: FER-DIS-005 | C30: DISCO PARA MAKITA | D30: und | E30: 35 | G30: =E30*F30 -> 0
B31: FER-DIS-015 | C31: DISCO PARA SERRA CIRCULAR | D31: und | E31: 10 | G31: =E31*F31 -> 0

Sheet CRONOGRAMA
A2: URBANIZAÇÃO 2 ETAPA
A3: CAMPUS JK - DIAMANTINA
A4: CRONOGRAMA FISICO FINANCEIRO
A5: ITEM | B5: DESCRIÇÃO | C5: TOTAL | E5: 1º MÊS | G5: 2º MÊS | I5: 3º MÊS | K5: 4º MÊS | M5: 5º MÊS
C6: % | D6: VALOR | E6: % | F6: VALOR | G6: % | H6: VALOR | I6: % | J6: VALOR | K6: % | L6: VALOR | M6: % | N6: VALOR
A7: =ORÇAMENTO!A6 -> 1.0 | B7: =ORÇAMENTO!C6 -> MOBILIZAÇÃO E DESMOBILIZAÇÃO DE OBRA - PARA OBRAS EXECUTADAS EM CENTROS URBANOS OU PRÓXIMOS DE CENTROS URBANOS - CONF. DEMOSTRATIVO EM ANEXO | C7: =ROUND(D7/D$15,4) -> #DIV/0! | D7: =ORÇAMENTO!G6 -> 0 | E7: 0.6 | F7: =ROUND(E7*$D7,2) -> 0 | H7: =ROUND(G7*$D7,2) -> 0 | J7: =ROUND(I7*$D7,2) -> 0 | L7: =ROUND(K7*$D7,2) -> 0 | M7: 0.4 | N7: =ROUND(M7*$D7,2) -> 0
A8: =ORÇAMENTO!A7 -> 2.0 | B8: =ORÇAMENTO!C7 -> ADMINISTRAÇÃO LOCAL - CONF. DEMOSTRATIVO EM ANEXO | C8: =ROUND(D8/D$15,4) -> #DIV/0! | D8: =ORÇAMENTO!G7 -> 0 | E8: 0.2 | F8: =ROUND(E8*$D8,2) -> 0 | G8: 0.2 | H8: =ROUND(G8*$D8,2) -> 0 | I8: 0.2 | J8: =ROUND(I8*$D8,2) -> 0 | K8: 0.2 | L8: =ROUND(K8*$D8,2) -> 0 | M8: 0.2 | N8: =ROUND(M8*$D8,2) -> 0
A9: =ORÇAMENTO!A8 -> 3.0 | B9: =ORÇAMENTO!B8 -> SERVIÇOS PRELIMINARES | C9: =ROUND(D9/D$15,4) -> #DIV/0! | D9: =ORÇAMENTO!G18 -> 0 | E9: 1 | F9: =ROUND(E9*$D9,2) -> 0 | H9: =ROUND(G9*$D9,2) -> 0 | J9: =ROUND(I9*$D9,2) -> 0 | L9: =ROUND(K9*$D9,2) -> 0 | N9: =ROUND(M9*$D9,2) -> 0
A10: =ORÇAMENTO!A19 -> 4.0 | B10: =ORÇAMENTO!B19 -> MOVIMENTAÇÃO DE TERRA | C10: =ROUND(D10/D$15,4) -> #DIV/0! | D10: =ORÇAMENTO!G26 -> 0 | E10: 0.4 | F10: =ROUND(E10*$D10,2) -> 0 | G10: 0.6 | H10: =ROUND(G10*$D10,2) -> 0 | J10: =ROUND(I10*$D10,2) -> 0 | L10: =ROUND(K10*$D10,2) -> 0 | N10: =ROUND(M10*$D10,2) -> 0
A11: =ORÇAMENTO!A27 -> 5.0 | B11: =ORÇAMENTO!B27 -> PAVIMENTAÇÃO | C11: =ROUND(D11/D$15,4) -> #DIV/0! | D11: =ORÇAMENTO!G37 -> 0 | F11: =ROUND(E11*$D11,2) -> 0 | G11: 0.1 | H11: =ROUND(G11*$D11,2) -> 0 | I11: 0.3 | J11: =ROUND(I11*$D11,2) -> 0 | K11: 0.3 | L11: =ROUND(K11*$D11,2) -> 0 | M11: 0.3 | N11: =ROUND(M11*$D11,2) -> 0
A12: =ORÇAMENTO!A38 -> 6.0 | B12: =ORÇAMENTO!B38 -> ABRIGO DE ÔNIBUS | C12: =ROUND(D12/D$15,4) -> #DIV/0! | D12: =ORÇAMENTO!G56 -> 0 | F12: =ROUND(E12*$D12,2) -> 0 | H12: =ROUND(G12*$D12,2) -> 0 | J12: =ROUND(I12*$D12,2) -> 0 | K12: 0.6 | L12: =ROUND(K12*$D12,2) -> 0 | M12: 0.4 | N12: =ROUND(M12*$D12,2) -> 0
A13: =ORÇAMENTO!A57 -> 7.0 | B13: =ORÇAMENTO!B57 -> LIMPEZA DA OBRA | C13: =ROUND(D13/D$15,4) -> #DIV/0! | D13: =ORÇAMENTO!G59 -> 0 | F13: =ROUND(E13*$D13,2) -> 0 | H13: =ROUND(G13*$D13,2) -> 0 | J13: =ROUND(I13*$D13,2) -> 0 | L13: =ROUND(K13*$D13,2) -> 0 | M13: 1 | N13: =ROUND(M13*$D13,2) -> 0
B15: (R$) SIMPLES | D15: =SUM(D7:D14) -> 0 | F15: =SUM(F7:F14) -> 0 | H15: =SUM(H7:H14) -> 0 | J15: =SUM(J7:J14) -> 0 | L15: =SUM(L7:L14) -> 0 | N15: =SUM(N7:N14) -> 0
B16: (%) SIMPLES | D16: 1 | F16: =F15/$D$15 -> #DIV/0! | H16: =H15/$D$15 -> #DIV/0! | J16: =J15/$D$15 -> #DIV/0! | L16: =L15/$D$15 -> #DIV/0! | N16: =N15/$D$15 -> #DIV/0!
B18: (R$) ACUMULADO | F18: =F15 -> 0 | H18: =H15+F18 -> 0 | J18: =J15+H18 -> 0 | L18: =L15+J18 -> 0 | N18: =N15+L18 -> 0
B19: (%) ACUMULADO | F19: =F16 -> #DIV/0! | H19: =H16+F19 -> #DIV/0! | J19: =J16+H19 -> #DIV/0! | L19: =L16+J19 -> #DIV/0! | N19: =N16+L19 -> #DIV/0!

Sheet COMPOSIÇÕES
A1: ANEXO XII - MODELO COMPOSIÇÃO CUSTOS UNITÁRIOS (PLANILHA ANALÍTICA - DEMONSTRAÇÃO PROPOSTA PREÇOS)
A2: URBANIZAÇÃO 2 ETAPA
A3: CAMPUS JK - DIAMANTINA
A6: 1.0 | B6: MOB-002 | C6: MOBILIZAÇÃO E DESMOBILIZAÇÃO DE OBRA - PARA OBRAS EXECUTADAS EM CENTROS URBANOS OU PRÓXIMOS DE CENTROS URBANOS - CONF. DEMOSTRATIVO EM ANEXO
B7: CÓDIGO | C7: DESCRIÇÃO | D7: UNID. | E7: PREÇO UNIT.(R$) | F7: COEFICIENTE | G7: VALOR TOTAL (R$)
B9: SOMA
A11: 2.0 | B11: SETOP - ADM-001 | C11: ADMINISTRAÇÃO LOCAL - CONF. DEMOSTRATIVO EM ANEXO
B12: CÓDIGO | C12: DESCRIÇÃO | D12: UNID. | E12: PREÇO UNIT.(R$) | F12: COEFICIENTE | G12: VALOR TOTAL (R$)
B14: SOMA
A16: 3.1 | B16: 74209/001 | C16: PLACA DE OBRA EM CHAPA DE ACO GALVANIZADO
B17: CÓDIGO | C17: DESCRIÇÃO | D17: UNID. | E17: PREÇO UNIT.(R$) | F17: COEFICIENTE | G17: VALOR TOTAL (R$)
B18: 5652 | C18: CONCRETO NAO ESTRUTURAL, CONSUMO 150 KG/M3 (1:3,5:7), PREPARO COM BETONEIRA | D18: M3 | F18: 0.01 | G18: =ROUND(E18*F18,2) -> 0
B19: 4417 | C19: PECA DE MADEIRA LEI 1A QUALIDADE 2,5 X 7,5CM (1 X 3") NAO APARELHADA | D19: M | F19: 1 | G19: =ROUND(E19*F19,2) -> 0
B20: 4813 | C20: PLACA DE OBRA (IDENTIFICACAO) PARA CONSTRUCAO CIVIL EM CHAPA GALVANIZADA NUM 22 (NAO INCLUI COLOCACAO) | D20: M2 | F20: 1 | G20: =ROUND(E20*F20,2) -> 0
B21: 6111 | C21: SERVENTE | D21: H | F21: 2 | G21: =ROUND(E21*F21,2) -> 0
B22: 5075 | C22: PREGO DE ACO 18 X 30 | D22: KG | F22: 0.11 | G22: =ROUND(E22*F22,2) -> 0
B23: 4491 | C23: PECA DE MADEIRA 3A/4A QUALIDADE 7,5 X 7,5CM (3X3) NAO APARELHADA | D23: M | F23: 4 | G23: =ROUND(E23*F23,2) -> 0
B24: 1213 | C24: CARPINTEIRO DE FORMAS | D24: H | F24: 1 | G24: =ROUND(E24*F24,2) -> 0
B25: SOMA | G25: =SUM(G18:G24) -> 0
A27: 3.2
A62: 3.3
A102: 3.4
A119: 3.5
A137: 3.6
A167: 3.7
A176: 3.8
A185: 3.9
A200: 4.1
A216: 4.2
A232: 4.3
A252: 4.4
... A526: 6.18
