Workbook
Name Print_Area: 'Cronograma (não desonerado)'!$A$2:$J$54

Sheet Sintetica (não desonerado)
A1: OBRA | E1: BANCO | G1: BDI
A2: UNIVERSIDADE FEDERAL DOS VALES DO JEQUITINHONHA E MUCURI CAMPUS PRESIDENTE JUSCELINO KUBITSCHEK - DIAMANTINA - MG REFORMA E AMPLIAÇÃO DO ABRIGO DE RESÍDUOS DE SERVIÇOS DE SAÚDE (RSS) PLANILHA ORÇAMENTÁRIA SINTÉTICA DE REFERÊNCIA - NÃO DESONERADA | E2: SINAPI - 02/2022 - Minas Gerais SETOP - 01/2022 - Minas Gerais | G2: 0.2511
A3: ITEM | B3: CÓDIGO | C3: DESCRIÇÃO | D3: UN | E3: QTDE | F3: P. TOTAL UNITÁRIO | G3: PREÇO TOTAL
A4: 1 | B4: MOBILIZAÇÃO E DESMOBILIZAÇÃO DE OBRA
A5: 1.1 | B5: MOB-DES-020 | C5: OBRAS COM VALOR ATÉ 1.000.000,00 | D5: % | E5: 0.005 | F5: =SUM(G10,G16,G37,G51,G79,G85,G90,G131,G151,G158,G177,G184,G203,G213,G222) -> 200824.01 | G5: =ROUND(F5*E5,2) -> 1004.12
A6: CUSTO TOTAL DO ITEM 01 | G6: =SUM(G5) -> 1004.12
A8: 2 | B8: ADMINISTRAÇÃO LOCAL
A9: 2.1 | B9: 93572 | C9: ENCARREGADO GERAL DE OBRAS COM ENCARGOS COMPLEMENTARES | D9: MÊS | E9: 4 | F9: 6238.91 | G9: =ROUND(F9*E9,2) -> 24955.64
A10: CUSTO TOTAL DO ITEM 02 | G10: =SUM(G9) -> 24955.64
A12: 3 | B12: CANTEIRO DE OBRAS
A13: 3.1 | B13: ED-16660 | C13: FORNECIMENTO E COLOCAÇÃO DE PLACA DE OBRA EM CHAPA GALVANIZADA #26, ESP. 0,45 MM, PLOTADA COM ADESIVO VINÍLICO, AFIXADA COM REBITES 4,8X40 MM, EM ESTRUTURA METÁLICA DE METALON 20X20 MM, ESP. 1,25 MM, INCLUSIVE SUPORTE EM EUCALIPTO AUTOCLAVADO PINTADO COM TINTA PVA DUAS (2) DEMÃOS | D13: M2 | E13: 2.2 | F13: 204.75 | G13: =ROUND(F13*E13,2) -> 450.45
A14: 3.2 | B14: IIO-TAP-026 | C14: TAPUME COM TELA DE POLIETILENO | D14: M | E14: =14.45*12.4 -> 179.18 | F14: 15 | G14: =ROUND(F14*E14,2) -> 2687.7
A15: 3.3 | B15: LOC-OBR-005 | C15: LOCAÇÃO DA OBRA (GABARITO) | D15: M2 | E15: =6.35+26.38 -> 32.73 | F15: 8.38 | G15: =ROUND(F15*E15,2) -> 274.28
A16: CUSTO TOTAL DO ITEM 03 | G16: =SUM(G13:G15) -> 3412.43
A18: 4 | B18: ABRIGO EXTERNO DE RESÍDUOS
A19: 4.1 | B19: INFRAESTRUTURA
A20: 4.1.1 | B20: BLOCOS E VIGAS BALDRAMES | G20: =SUM(G21:G29) -> 3552.48
A21: 4.1.1.1 | B21: 97629 | C21: DEMOLIÇÃO DE PISO, DE FORMA MECANIZADA COM MARTELETE, SEM REAPROVEITAMENTO | D21: M3 | E21: 5.65 | F21: 103.42 | G21: =ROUND(F21*E21,2) -> 584.32
A22: 4.1.1.2 | B22: 93358 | C22: ESCAVAÇÃO MANUAL DE VALAS (BLOCOS E VIGAS BALDRAMES) | D22: M3 | E22: 2.54 | F22: 66.5 | G22: =ROUND(F22*E22,2) -> 168.91
A23: 4.1.1.3 | B23: 93382 | C23: REATERRO MANUAL DE VALAS COM COMPACTAÇÃO MECANIZADA. | D23: M3 | E23: 1.46 | F23: 27.29 | G23: =ROUND(F23*E23,2) -> 39.84
A24: 4.1.1.4 | B24: TER-REG-010 | C24: REGULARIZAÇÃO E COMPACTAÇÃO DE TERRENO COM PLACA VIBRATÓRIA (VIGAS BALDRAMES, SAPATAS E PISO) | D24: M2 | E24: 98.75 | F24: 4.12 | G24: =ROUND(F24*E24,2) -> 406.85
A25: 4.1.1.5 | B25: 96557 | C25: CONCRETAGEM DE BLOCOS DE COROAMENTO E VIGAS BALDRAMES, FCK 30 MPA, COM USO DE BOMBA  LANÇAMENTO, ADENSAMENTO E ACABAMENTO. | D25: M3 | E25: 1.12 | F25: 512.8 | G25: =ROUND(F25*E25,2) -> 574.34
A26: 4.1.1.6 | B26: EST-FOR-005 | C26: FORMA E DESFORMA DE TÁBUA E SARRAFO, REAPROVEITAMENTO (3X) - (BLOCOS, VIGAS BALDRAMES E PISO) | D26: M2 | E26: 21.48 | F26: 52.57 | G26: =ROUND(F26*E26,2) -> 1129.2
A27: 4.1.1.7 | B27: 98557 | C27: IMPERMEABILIZAÇÃO DE SUPERFÍCIE COM EMULSÃO ASFÁLTICA, 2 DEMÃOS | D27: M2 | E27: =16*0.6 -> 9.6 | F27: 36.22 | G27: =ROUND(F27*E27,2) -> 347.71
A28: 4.1.1.8 | B28: 96543 | C28: ARMAÇÃO DE BLOCO, VIGA BALDRAME E SAPATA UTILIZANDO AÇO CA-60 DE 4,2 E 5 MM - MONTAGEM. | D28: KG | E28: 5.79 | F28: 17.92 | G28: =ROUND(F28*E28,2) -> 103.76
A29: 4.1.1.9 | B29: 96545 | C29: ARMAÇÃO DE BLOCO, VIGA BALDRAME OU SAPATA UTILIZANDO AÇO CA-50 DE 8 MM - MONTAGEM. | D29: KG | E29: 12.68 | F29: 15.58 | G29: =ROUND(F29*E29,2) -> 197.55
A30: 4.1.2 | B30: LAJE PISO | G30: =SUM(G31:G33) -> 9723.7
A31: 4.1.2.1 | B31: PIS-LON-005 | C31: APLICAÇÃO DE LONA PRETA, ESP. 150 MICRAS, INCLUSIVE FORNECIMENTO | D31: M2 | E31: =10.38*8.51 -> 88.3338 | F31: 2.56 | G31: =ROUND(F31*E31,2) -> 226.13
A32: 4.1.2.2 | B32: 97092 | C32: ARMAÇÃO PARA EXECUÇÃO DE RADIER, PISO DE CONCRETO OU LAJE SOBRE SOLO, COM USO DE TELA Q-196 | D32: KG | E32: =E31*3.11 -> 274.71812 | F32: 18.1 | G32: =ROUND(F32*E32,2) -> 4972.4
A33: 4.1.2.3 | B33: 97096 | C33: CONCRETAGEM DE RADIER, PISO DE CONCRETO OU LAJE SOBRE SOLO, FCK 30 MPA - LANÇAMENTO, ADENSAMENTO E ACABAMENTO (ESP. = 10 CM) | D33: M3 | E33: 9.57 | F33: 472.85 | G33: =ROUND(F33*E33,2) -> 4525.17
A34: 4.1.3 | B34: ESTRUTURA METÁLICA | G34: =SUM(G35:G36) -> 6260.58
A35: 4.1.3.1 | B35: COMP-ABRIGO-03 | C35: PILAR METÁLICO PERFIL UDC ("U" DOBRADO DE CHAPA) SIMPLES DE ACO LAMINADO, GALVANIZADO, ASTM A36, 127 X 50 MM, E= 3 MM - CHAPA DUPLA, INCLUSO 1 (UMA) DEMÃO DE ZARCÃO E 2 (DUAS) DEMÃOS DE PINTURA | D35: KG | E35: =10.2*10*2.85 -> 290.7 | F35: 11.18 | G35: =ROUND(F35*E35,2) -> 3250.03
A36: 4.1.3.2 | B36: COMP-ABRIGO-03 | C36: VIGA METÁLICA PERFIL UDC ("U" DOBRADO DE CHAPA) SIMPLES DE ACO LAMINADO, GALVANIZADO, ASTM A36, 127 X 50 MM, E= 3 MM - CHAPA DUPLA, INCLUSO 1 (UMA) DEMÃO DE ZARCÃO E 2 (DUAS) DEMÃOS DE PINTURA | D36: KG | E36: =(10.2*4*3.2)+(1.8*2+4.5+5.5)*10.2 -> 269.28 | F36: 11.18 | G36: =ROUND(F36*E36,2) -> 3010.55
A37: CUSTO TOTAL DO ITEM 4.1 | G37: =G20+G30+G34 -> 19536.76
A39: 4.2 | B39: COBERTURA
A40: 4.2.1 | B40: RETIRADA DE TELHAS | G40: =SUM(G41) -> 91.11
A41: 4.2.1.1 | B41: 97647 | C41: REMOÇÃO DE TELHAS, DE FIBROCIMENTO, METÁLICA E CERÂMICA, DE FORMA MANUAL, SEM REAPROVEITAMENTO | D41: M2 | E41: =7*4.75 -> 33.25 | F41: 2.74 | G41: =ROUND(F41*E41,2) -> 91.11
A42: 4.2.2 | B42: ESTRUTURA METÁLICA DO TELHADO | G42: =SUM(G43:G44) -> 4486.4
A43: 4.2.2.1 | B43: 92580 | C43: TRAMA DE AÇO COMPOSTA POR TERÇAS PARA TELHADOS DE ATÉ 2 ÁGUAS PARA TELHA METÁLICA, INCLUSO TRANSPORTE VERTICAL | D43: M2 | E43: =2.1*4.75+10.38*3.35 -> 44.748 | F43: 47.41 | G43: =ROUND(F43*E43,2) -> 2121.5
A44: 4.2.2.2 | B44: PIN-ESM-035 | C44: PINTURA ESMALTE EM ESTRUTURA METÁLICA, DUAS (2) DEMÃOS, INCLUSIVE UMA (1) DEMÃO FUNDO ANTICORROSIVO | D44: M2 | E44: =E46 -> 77.998 | F44: 30.32 | G44: =ROUND(F44*E44,2) -> 2364.9
...

Sheet Analítica (não desonerado)
A1: OBRA | F1: BANCO | H1: BDI
A2: UNIVERSIDADE FEDERAL DOS VALES DO JEQUITINHONHA E MUCURI CAMPUS PRESIDENTE JUSCELINO KUBITSCHEK - DIAMANTINA - MG REFORMA E AMPLIAÇÃO DO ABRIGO DE RESÍDUOS DE SERVIÇOS DE SAÚDE (RSS) PLANILHA ORÇAMENTÁRIA ANALÍTICA DE REFERÊNCIA - NÃO DESONERADA | F2: SINAPI - 02/2022 - Minas Gerais SETOP - 01/2022 - Minas Gerais | H2: 25.11%
A4: 1 | D4: MOBILIZAÇÃO E DESMOBILIZAÇÃO DE OBRA
A5: 1.1 | B5: Código | C5: Banco | D5: Descrição | E5: Und | F5: Quant. | G5: Valor Unit | H5: Total
A6: Composição | B6: MOB-DES-020 | C6: SETOP | D6: OBRAS COM VALOR ATÉ 1.000.000,00 | E6: % | F6: 0.5 | G6: 0 | H6: 0
A9: 2 | D9: ADMINISTRAÇÃO LOCAL
A10: 2.1 | B10: Código | C10: Banco | D10: Descrição | E10: Und | F10: Quant. | G10: Valor Unit | H10: Total
A11: Composição | B11: 93572 | C11: SINAPI | D11: ENCARREGADO GERAL DE OBRAS COM ENCARGOS COMPLEMENTARES | E11: MES | F11: 1 | G11: 6238.91 | H11: 6238.91 | I11: =SUM(I12:I17) -> 6238.91
A12: Composição Auxiliar | B12: 95422 | C12: SINAPI | D12: CURSO DE CAPACITAÇÃO PARA ENCARREGADO GERAL DE OBRAS (ENCARGOS COMPLEMENTARES) - MENSALISTA | E12: MES | F12: 1 | G12: 75.68 | H12: 75.68 | I12: =F12*G12 -> 75.68
A13: Insumo | B13: 00040818 | C13: SINAPI | D13: ENCARREGADO GERAL DE OBRAS (MENSALISTA) | E13: MES | F13: 1 | G13: 5777.56 | H13: 5777.56 | I13: =F13*G13 -> 5777.56
A14: Insumo | B14: 00043499 | C14: SINAPI | D14: EPI - FAMILIA ENCARREGADO GERAL - MENSALISTA (ENCARGOS COMPLEMENTARES - COLETADO CAIXA) | E14: MES | F14: 1 | G14: 202.94 | H14: 202.94 | I14: =F14*G14 -> 202.94
A15: Insumo | B15: 00040863 | C15: SINAPI | D15: EXAMES - MENSALISTA (COLETADO CAIXA) | E15: MES | F15: 1 | G15: 152.35 | H15: 152.35 | I15: =F15*G15 -> 152.35
A16: Insumo | B16: 00043475 | C16: SINAPI | D16: FERRAMENTAS - FAMILIA ENCARREGADO GERAL - MENSALISTA (ENCARGOS COMPLEMENTARES - COLETADO CAIXA) | E16: MES | F16: 1 | G16: 18.58 | H16: 18.58 | I16: =F16*G16 -> 18.58
A17: Insumo | B17: 00040864 | C17: SINAPI | D17: SEGURO - MENSALISTA (COLETADO CAIXA) | E17: MES | F17: 1 | G17: 11.8 | H17: 11.8 | I17: =F17*G17 -> 11.8
A20: 3 | D20: CANTEIRO DE OBRAS
A21: 3.1 | B21: Código | C21: Banco | D21: Descrição | E21: Und | F21: Quant. | G21: Valor Unit | H21: Total
A22: Composição | B22: ED-16660 | C22: SETOP | D22: FORNECIMENTO E COLOCAÇÃO DE PLACA DE OBRA EM CHAPA GALVANIZADA #26, ESP. 0,45 MM, PLOTADA COM ADESIVO VINÍLICO, AFIXADA COM REBITES 4,8X40 MM, EM ESTRUTURA METÁLICA DE METALON 20X20 MM, ESP. 1,25 MM, INCLUSIVE SUPORTE EM EUCALIPTO AUTOCLAVADO PINTADO COM TINTA PVA DUAS (2) DEMÃOS | E22: m² | F22: 1 | G22: 204,75 | H22: 204,75 | I22: =SUM(I23:I24) -> 204.75
A23: Insumo | B23: ED-16671 | C23: SETOP | D23: FIXAÇÃO DE PLACA DE OBRA EM SUPORTE DE EUCALIPTO AUTOCLAVADO , INCLUSIVE PINTURA LÁTEX (PVA) EM SUPERFÍCIE DE MADEIRA, EM DUAS (2) DEMÃOS E ESCAVAÇÃO (MONTAGEM) | E23: m² | F23: 1 | G23: 173,78 | H23: 173.78 | I23: =F23*G23 -> 173.78
A24: Insumo | B24: ED-16670 | C24: SETOP | D24: PLACA DE OBRA EM CHAPA GALVANIZADA ENRIJECIDA , PLOTADA COM ADESIVO VINÍLICO, FIXADA COM REBITES 4,8X40MM, EM ESTRUTURA METÁLICA DE METALON 20X20MM, ESP. 1 ,25MM, EXCLUSIVE SUPORTE EM EUCALIPTO - PADRÃO GOVERNO DE MINAS GERAIS ( FABRICAÇÃO) | E24: m² | F24: 1 | G24: 30,97 | H24: 30.97 | I24: =F24*G24 -> 30.97
A27: 3.2 | B27: Código | C27: Banco | D27: Descrição | E27: Und | F27: Quant. | G27: Valor Unit | H27: Total | J27: 3.2 | K27: Código | L27: Banco | M27: Descrição | N27: Und | O27: Quant. | P27: Valor Unit | Q27: Total
A28: Composição | B28: IIO-TAP-026 | C28: SETOP | D28: TAPUME COM TELA DE POLIETILENO | E28: M | F28: 1 | G28: 15 | H28: 15 | I28: =SUM(I29:I34) -> 15.03386 | J28: Composição | K28: IIO-TAP-026 | L28: SETOP | M28: TAPUME COM TELA DE POLIETILENO | N28: M | O28: 1 | P28: 15,00 | Q28: 15,00 | R28: =SUM(R29:R34) -> 18.577
A29: Composição Auxiliar | B29: MAO-AJD-010 | C29: SETOP | D29: AJUDANTE DE CARPINTEIRO COM ENCARGOS COMPLEMENTARES | E29: hora | F29: 0.04 | G29: 19.03 | H29: 0.76 | I29: =F29*G29 -> 0.7612 | J29: Composição Auxiliar | K29: MAO-AJD-010 | L29: SETOP | M29: AJUDANTE DE CARPINTEIRO COM ENCARGOS COMPLEMENTARES | N29: HORA | O29: 0.04 | P29: 19,03 | Q29: 0.76 | R29: =O29*P29 -> 0.7612
A30: Composição Auxiliar | B30: AUX-CON-005 | C30: SETOP | D30: CONCRETO MAGRO, TRAÇO 1:4:8, PREPARADO EM OBRA COM BETONEIRA, SEM FUNÇÃO ESTRUTURAL | E30: m³ | F30: 0.004 | G30: 325.92 | H30: 1.3 | I30: =F30*G30 -> 1.30368 | J30: Composição Auxiliar | K30: AUX-CON-005 | L30: SETOP | M30: CONCRETO MAGRO, TRAÇO 1:4:8, PREPARADO EM OBRA COM BETONEIRA, SEM FUNÇÃO ESTRUTURAL | N30: m³ | O30: 0.004 | P30: 325,92 | Q30: 1.3 | R30: =O30*P30 -> 1.30368
A31: Insumo | B31: MATED- 11331 | C31: SETOP | D31: PREGO 17X27 COM CABEÇA (COMPRIMENTO: 62,1 MM|DIÂMETRO: 3,0 MM| QUANTIDADE POR QUILO: 290) | E31: Kg | F31: 0.024 | G31: 11.22 | H31: 0.26 | I31: =F31*G31 -> 0.26928 | J31: Insumo | K31: MATED- 11344 | L31: SETOP | M31: PONTALETE 3A. CONSTRUÇÃO (SEÇÃO TRANSVERSAL: 3"X3" [7,5X7 ,5CM]|TIPO DE MADEIRA: CEDRO OU EQUIVALENTE DA REGIÃO) | N31: m | O31: 1.25 | P31: 11.22 | Q31: 0.26 | R31: =O31*P31 -> 14.025
A32: Insumo | B32: MATED- 11344 | C32: SETOP | D32: PONTALETE 3A. CONSTRUÇÃO (SEÇÃO TRANSVERSAL: 3"X3" [7,5X7 ,5CM]|TIPO DE MADEIRA: CEDRO OU EQUIVALENTE DA REGIÃO) | E32: m | F32: 1.25 | G32: 8.33 | H32: 10.41 | I32: =F32*G32 -> 10.4125 | J32: Insumo | K32: MATED- 11331 | L32: SETOP | M32: PREGO 17X27 COM CABEÇA (COMPRIMENTO: 62,1 MM|DIÂMETRO: 3,0 MM| QUANTIDADE POR QUILO: 290) | N32: Kg | O32: 0.024 | P32: 8.33 | Q32: 10.41 | R32: =O32*P32 -> 0.19992
A33: Insumo | B33: MATED- 11459 | C33: SETOP | D33: Tela de polietileno para proteção tapume (largura: 1, 20 m) | E33: m | F33: 1.05 | G33: 1.56 | H33: 1.63 | I33: =F33*G33 -> 1.638 | J33: Insumo | K33: MATED- 11459 | L33: SETOP | M33: Tela de polietileno para proteção tapume (largura: 1, 20 m) | N33: m | O33: 1.05 | P33: 1,56 | Q33: 1.63 | R33: =O33*P33 -> 1.638
A34: Insumo | B34: ED-48610 | C34: SETOP | D34: FORMA PARA BERÇO EM TABUA, INCLUSIVE DESFORMA | E34: m² | F34: 0.02 | G34: 32.46 | H34: 0.64 | I34: =F34*G34 -> 0.6492 | J34: Insumo | K34: ED-48610 | L34: SETOP | M34: FORMA PARA BERÇO EM TABUA, INCLUSIVE DESFORMA | N34: m² | O34: 0.02 | P34: 32,46 | Q34: 0.64 | R34: =O34*P34 -> 0.6492
A37: 3.3 | B37: Código | C37: Banco | D37: Descrição | E37: Und | F37: Quant. | G37: Valor Unit | H37: Total
A38: Composição | B38: LOC-OBR-005 | C38: SETOP | D38: LOCAÇÃO DA OBRA (GABARITO) | E38: m² | F38: 1 | G38: 8.38 | H38: 8.38 | I38: =SUM(I39:I44) -> 8.4153 | J38: Composição | K38: LOC-OBR-005 | L38: SETOP | M38: LOCAÇÃO DA OBRA (GABARITO) | N38: m² | O38: 1 | P38: 8,38 | Q38: 8,38 | R38: =SUM(R39:R44) -> 7.6359
A39: Composição Auxiliar | B39: MAO-OFC-020 | C39: SETOP | D39: CARPINTEIRO DE FORMA COM ENCARGOS COMPLEMENTARES | E39: hora | F39: 0.07 | G39: 22.84 | H39: 1.59 | I39: =F39*G39 -> 1.5988 | J39: Composição Auxiliar | K39: MAO-OFC-020 | L39: SETOP | M39: CARPINTEIRO DE FORMA COM ENCARGOS COMPLEMENTARES | N39: HORA | O39: 0.07 | P39: 22,84 | Q39: 1,59 | R39: =O39*P39 -> 1.5988
A40: Composição Auxiliar | B40: MAO-AJD-040 | C40: SETOP | D40: SERVENTE COM ENCARGOS COMPLEMENTARES | E40: hora | F40: 0.07 | G40: 16.81 | H40: 1.17 | I40: =F40*G40 -> 1.1767 | J40: Composição Auxiliar | K40: MAO-AJD-040 | L40: SETOP | M40: SERVENTE COM ENCARGOS COMPLEMENTARES | N40: HORA | O40: 0.07 | P40: 16,81 | Q40: 1,17 | R40: =O40*P40 -> 1.1767
A41: Insumo | B41: MATED- 11332 | C41: SETOP | D41: PREGO 18X30 COM CABEÇA (COMPRIMENTO: 69,0 MM|DIÂMETRO: 3,4 MM| QUANTIDADE POR QUILO: 203) | E41: Kg | F41: 0.02 | G41: 11.28 | H41: 0.22 | I41: =F41*G41 -> 0.2256 | J41: Insumo | K41: MATED- 12852 | L41: SETOP | M41: ARAME GALVANIZADO ( BITOLA: 16BWG|DIÂMETRO DO FIO: 1,65MM|MASSA LINEAR: 0,0166KG/M) | N41: Kg | O41: 0.02 | P41: 11,28 | Q41: 0,22 | R41: =O41*P41 -> 0.2256
A42: Insumo | B42: MATED- 11344 | C42: SETOP | D42: PONTALETE 3A. CONSTRUÇÃO (SEÇÃO TRANSVERSAL: 3"X3" [7,5X7 ,5CM]|TIPO DE MADEIRA: CEDRO OU EQUIVALENTE DA REGIÃO) | E42: m | F42: 0.3 | G42: 8.33 | H42: 2.49 | I42: =F42*G42 -> 2.499 | J42: Insumo | K42: MATED- 11344 | L42: SETOP | M42: PONTALETE 3A. CONSTRUÇÃO (SEÇÃO TRANSVERSAL: 3"X3" [7,5X7 ,5CM]|TIPO DE MADEIRA: CEDRO OU EQUIVALENTE DA REGIÃO) | N42: m | O42: 0.3 | P42: 8,33 | Q42: 2,49 | R42: =O42*P42 -> 2.499
A43: Insumo | B43: MATED- 11352 | C43: SETOP | D43: TÁBUA 3A. CONSTRUÇÃO ( SEÇÃO TRANSVERSAL: 1X9"|ESPESSURA: 25MM| LARGURA: 225MM|TIPO DE MADEIRA: CEDRINHO) | E43: m² | F43: 0.08 | G43: 31.75 | H43: 2.54 | I43: =F43*G43 -> 2.54 | J43: Insumo | K43: MATED- 11332 | L43: SETOP | M43: PREGO 18X30 COM CABEÇA (COMPRIMENTO: 69,0 MM|DIÂMETRO: 3,4 MM| QUANTIDADE POR QUILO: 203) | N43: Kg | O43: 0.02 | P43: 31,75 | Q43: 2,54 | R43: =O43*P43 -> 0.635
A44: Insumo | B44: MATED- 12852 | C44: SETOP | D44: ARAME GALVANIZADO ( BITOLA: 16BWG|DIÂMETRO DO FIO: 1,65MM|MASSA LINEAR: 0,0166KG/M) | E44: Kg | F44: 0.02 | G44: 18.76 | H44: 0.37 | I44: =F44*G44 -> 0.3752 | J44: Insumo | K44: MATED- 11352 | L44: SETOP | M44: TÁBUA 3A. CONSTRUÇÃO ( SEÇÃO TRANSVERSAL: 1X9"|ESPESSURA: 25MM| LARGURA: 225MM|TIPO DE MADEIRA: CEDRINHO) | N44: m² | O44: 0.08 | P44: 18,76 | Q44: 0,37 | R44: =O44*P44 -> 1.5008
A47: 4 | D47: ABRIGO EXTERNO DE RESÍDUOS
A48: 4.1 | D48: INFRAESTRUTURA
A49: 4.1.1 | D49: BLOCOS E VIGAS BALDRAMES
A50: 4.1.1.1 | B50: Código | C50: Banco | D50: Descrição | E50: Und | F50: Quant. | G50: Valor Unit | H50: Total
A51: Composição | B51: 97629 | C51: SINAPI | D51: DEMOLIÇÃO DE PISO, DE FORMA MECANIZADA COM MARTELETE, SEM REAPROVEITAMENTO | E51: m³ | F51: 1 | G51: 103.42 | H51: 103.42 | I51: =SUM(I52:I55) -> 103.44853
...

Sheet Cronograma (não desonerado)
A1: OBRA | L1: BDI
A2: UNIVERSIDADE FEDERAL DOS VALES DO JEQUITINHONHA E MUCURI CAMPUS PRESIDENTE JUSCELINO KUBITSCHEK - DIAMANTINA - MG REFORMA E AMPLIAÇÃO DO ABRIGO DE RESÍDUOS DE SERVIÇOS DE SAÚDE (RSS) CRONOGRAMA FÍSICO-FINANCEIRO DE REFERÊNCIA - Não desonerada | L2: 0.2511
A3: ITEM | B3: DESCRIÇÃO | C3: TOTAL | E3: MÊS UM | G3: MÊS DOIS | I3: MÊS TRÊS | K3: MÊS QUATRO
C4: % | D4: VALOR | E4: % | F4: VALOR | G4: % | H4: VALOR | I4: % | J4: VALOR | K4: % | L4: VALOR
A5: ='Sintetica (não desonerado)'!A4 -> 1 | B5: ='Sintetica (não desonerado)'!B4 -> MOBILIZAÇÃO E DESMOBILIZAÇÃO DE OBRA | C5: =D5/D$50 -> 0.0049751059 | D5: =ROUND('Sintetica (não desonerado)'!G6*(1+$L$2),2) -> 1256.25 | E5: 0.5 | F5: =ROUND(E5*$D5,2) -> 628.13 | K5: 0.5 | L5: =ROUND(K5*$D5,2) -> 628.13 | M5: =SUM(E5+G5+I5+K5) -> 1
A6: ='Sintetica (não desonerado)'!A8 -> 2 | B6: ='Sintetica (não desonerado)'!B8 -> ADMINISTRAÇÃO LOCAL | C6: =D6/D$50 -> 0.12364796 | D6: =ROUND('Sintetica (não desonerado)'!G10*(1+$L$2),2) -> 31222 | E6: 0.2163 | F6: =ROUND(E6*$D6,2) -> 6753.32 | G6: 0.2581 | H6: =ROUND(G6*$D6,2) -> 8058.4 | I6: 0.4011 | J6: =ROUND(I6*$D6,2) -> 12523.14 | K6: 0.1245 | L6: =ROUND(K6*$D6,2) -> 3887.14 | M6: =SUM(E6+G6+I6+K6) -> 1
A7: ='Sintetica (não desonerado)'!A12 -> 3 | B7: ='Sintetica (não desonerado)'!B12 -> CANTEIRO DE OBRAS | C7: =D7/D$50 -> 0.016907598 | D7: =ROUND('Sintetica (não desonerado)'!G16*(1+$L$2),2) -> 4269.29 | E7: 1 | F7: =ROUND(E7*$D7,2) -> 4269.29 | M7: =SUM(E7+G7+I7+K7) -> 1
A8: ='Sintetica (não desonerado)'!A18 -> 4 | B8: ='Sintetica (não desonerado)'!B18 -> ABRIGO EXTERNO DE RESÍDUOS | C8: =D8/D$50 -> 0.66535729 | D8: =ROUND(SUM(D9,D13,D18,D26,D27,D28,D31,D32),2) -> 168007.5 | M8: =SUM(E8+G8+I8+K8) -> 0
A9: ='Sintetica (não desonerado)'!A19 -> 4.1 | B9: ='Sintetica (não desonerado)'!B19 -> INFRAESTRUTURA | C9: =D9/D$50 -> 0.096798986 | D9: =SUM(D10:D12) -> 24442.44 | M9: =SUM(E9+G9+I9+K9) -> 0
A10: ='Sintetica (não desonerado)'!A20 -> 4.1.1 | B10: ='Sintetica (não desonerado)'!B20 -> BLOCOS E VIGAS BALDRAMES | C10: =D10/D$50 -> 0.017601519 | D10: =ROUND('Sintetica (não desonerado)'!G20*(1+$L$2),2) -> 4444.51 | E10: 1 | F10: =ROUND(E10*$D10,2) -> 4444.51 | M10: =SUM(E10+G10+I10+K10) -> 1
A11: ='Sintetica (não desonerado)'!A30 -> 4.1.2 | B11: ='Sintetica (não desonerado)'!B30 -> LAJE PISO | C11: =D11/D$50 -> 0.048178113 | D11: =ROUND('Sintetica (não desonerado)'!G30*(1+$L$2),2) -> 12165.32 | E11: 1 | F11: =ROUND(E11*$D11,2) -> 12165.32 | M11: =SUM(E11+G11+I11+K11) -> 1
A12: ='Sintetica (não desonerado)'!A34 -> 4.1.3 | B12: ='Sintetica (não desonerado)'!B34 -> ESTRUTURA METÁLICA | C12: =D12/D$50 -> 0.031019354 | D12: =ROUND('Sintetica (não desonerado)'!G34*(1+$L$2),2) -> 7832.61 | E12: 1 | F12: =ROUND(E12*$D12,2) -> 7832.61 | M12: =SUM(E12+G12+I12+K12) -> 1
A13: ='Sintetica (não desonerado)'!A39 -> 4.2 | B13: ='Sintetica (não desonerado)'!B39 -> COBERTURA | C13: =D13/D$50 -> 0.075338964 | D13: =ROUND(SUM(D14:D17),2) -> 19023.63 | M13: =SUM(E13+G13+I13+K13) -> 0
A14: ='Sintetica (não desonerado)'!A40 -> 4.2.1 | B14: ='Sintetica (não desonerado)'!B40 -> RETIRADA DE TELHAS | C14: =D14/D$50 -> 0.00045143269 | D14: =ROUND('Sintetica (não desonerado)'!G40*(1+$L$2),2) -> 113.99 | E14: 1 | F14: =ROUND(E14*$D14,2) -> 113.99 | M14: =SUM(E14+G14+I14+K14) -> 1
A15: ='Sintetica (não desonerado)'!A42 -> 4.2.2 | B15: ='Sintetica (não desonerado)'!B42 -> ESTRUTURA METÁLICA DO TELHADO | C15: =D15/D$50 -> 0.022228832 | D15: =ROUND('Sintetica (não desonerado)'!G42*(1+$L$2),2) -> 5612.94 | E15: 1 | F15: =ROUND(E15*$D15,2) -> 5612.94 | M15: =SUM(E15+G15+I15+K15) -> 1
A16: ='Sintetica (não desonerado)'!A45 -> 4.2.3 | B16: ='Sintetica (não desonerado)'!B45 -> TELHAMENTO EM TELHA METÁLICA | C16: =D16/D$50 -> 0.031963882 | D16: =ROUND('Sintetica (não desonerado)'!G45*(1+$L$2),2) -> 8071.11 | E16: 1 | F16: =ROUND(E16*$D16,2) -> 8071.11 | M16: =SUM(E16+G16+I16+K16) -> 1
A17: ='Sintetica (não desonerado)'!A47 -> 4.2.4 | B17: ='Sintetica (não desonerado)'!B47 -> INSTALAÇÃO DE CALHAS / CUMEEIRAS / DESCIDAS D'ÁGUA | C17: =D17/D$50 -> 0.020694817 | D17: =ROUND('Sintetica (não desonerado)'!G47*(1+$L$2),2) -> 5225.59 | E17: 1 | F17: =ROUND(E17*$D17,2) -> 5225.59 | M17: =SUM(E17+G17+I17+K17) -> 1
A18: ='Sintetica (não desonerado)'!A53 -> 4.3 | B18: ='Sintetica (não desonerado)'!B53 -> ARQUITETURA | C18: =D18/D$50 -> 0.36999279 | D18: =ROUND(SUM(D19:D25),2) -> 93425.84 | M18: =SUM(E18+G18+I18+K18) -> 0
A19: ='Sintetica (não desonerado)'!A54 -> 4.3.1 | B19: ='Sintetica (não desonerado)'!B54 -> EXECUÇÃO DE ALVENARIA | C19: =D19/D$50 -> 0.015148717 | D19: =ROUND('Sintetica (não desonerado)'!G54*(1+$L$2),2) -> 3825.16 | G19: 1 | H19: =ROUND(G19*$D19,2) -> 3825.16 | M19: =SUM(E19+G19+I19+K19) -> 1
A20: ='Sintetica (não desonerado)'!A56 -> 4.3.2 | B20: ='Sintetica (não desonerado)'!B56 -> EXECUÇÃO DE REVESTIMENTO | C20: =D20/D$50 -> 0.050519433 | D20: =ROUND('Sintetica (não desonerado)'!G56*(1+$L$2),2) -> 12756.52 | G20: 1 | H20: =ROUND(G20*$D20,2) -> 12756.52 | M20: =SUM(E20+G20+I20+K20) -> 1
A21: ='Sintetica (não desonerado)'!A60 -> 4.3.3 | B21: ='Sintetica (não desonerado)'!B60 -> PINTURA INTERNA PAREDES, BANCADA CONCRETO E PORTAS | C21: =D21/D$50 -> 0.022526804 | D21: =ROUND('Sintetica (não desonerado)'!G60*(1+$L$2),2) -> 5688.18 | G21: 1 | H21: =ROUND(G21*$D21,2) -> 5688.18 | M21: =SUM(E21+G21+I21+K21) -> 1
A22: ='Sintetica (não desonerado)'!A65 -> 4.3.4 | B22: ='Sintetica (não desonerado)'!B65 -> PINTURA EXTERNA | C22: =D22/D$50 -> 0.0046201061 | D22: =ROUND('Sintetica (não desonerado)'!G65*(1+$L$2),2) -> 1166.61 | G22: 1 | H22: =ROUND(G22*$D22,2) -> 1166.61 | M22: =SUM(E22+G22+I22+K22) -> 1
A23: ='Sintetica (não desonerado)'!A67 -> 4.3.5 | B23: ='Sintetica (não desonerado)'!B67 -> PISO | C23: =D23/D$50 -> 0.013804755 | D23: =ROUND('Sintetica (não desonerado)'!G67*(1+$L$2),2) -> 3485.8 | G23: 1 | H23: =ROUND(G23*$D23,2) -> 3485.8 | M23: =SUM(E23+G23+I23+K23) -> 1
A24: ='Sintetica (não desonerado)'!A71 -> 4.3.6 | B24: ='Sintetica (não desonerado)'!B71 -> ESQUADRIAS (INSTAÇÃO DE JANELAS, PORTAS METÁLICAS E ALAMBRADO) | C24: =D24/D$50 -> 0.23251999 | D24: =ROUND('Sintetica (não desonerado)'!G71*(1+$L$2),2) -> 58712.97 | G24: 0.4 | H24: =ROUND(G24*$D24,2) -> 23485.19 | I24: 0.6 | J24: =ROUND(I24*$D24,2) -> 35227.78 | M24: =SUM(E24+G24+I24+K24) -> 1
A25: ='Sintetica (não desonerado)'!A76 -> 4.3.7 | B25: ='Sintetica (não desonerado)'!B76 -> BANCADA | C25: =D25/D$50 -> 0.030852983 | D25: =ROUND('Sintetica (não desonerado)'!G76*(1+$L$2),2) -> 7790.6 | I25: 0.7 | J25: =ROUND(I25*$D25,2) -> 5453.42 | K25: 0.3 | L25: =ROUND(K25*$D25,2) -> 2337.18 | M25: =SUM(E25+G25+I25+K25) -> 1
A26: ='Sintetica (não desonerado)'!A81 -> 4.4 | B26: ='Sintetica (não desonerado)'!B81 -> PAISAGISMO | C26: =D26/D$50 -> 0.0093924454 | D26: =ROUND('Sintetica (não desonerado)'!G85*(1+$L$2),2) -> 2371.66 | K26: 1 | L26: =ROUND(K26*$D26,2) -> 2371.66 | M26: =SUM(E26+G26+I26+K26) -> 1
A27: ='Sintetica (não desonerado)'!A87 -> 4.5 | B27: ='Sintetica (não desonerado)'!B87 -> COMBATE A INCENDIO | C27: =D27/D$50 -> 0.001599994 | D27: =ROUND('Sintetica (não desonerado)'!G90*(1+$L$2),2) -> 404.01 | I27: 1 | J27: =ROUND(I27*$D27,2) -> 404.01 | M27: =SUM(E27+G27+I27+K27) -> 1
A28: ='Sintetica (não desonerado)'!A92 -> 4.6 | B28: ='Sintetica (não desonerado)'!B92 -> INSTALAÇÕES HIDROSSANITÁRIAS | C28: =D28/D$50 -> 0.055542656 | D28: =ROUND(SUM(D29:D30),2) -> 14024.92 | M28: =SUM(E28+G28+I28+K28) -> 0
A29: ='Sintetica (não desonerado)'!A93 -> 4.6.1 | B29: ='Sintetica (não desonerado)'!B93 -> INSTALAÇÕES SANITÁRIAS, APARELHOS SANITÁRIOS E ACESSÓRIOS | C29: =D29/D$50 -> 0.044594017 | D29: =ROUND('Sintetica (não desonerado)'!G93*(1+$L$2),2) -> 11260.31 | I29: 1 | J29: =ROUND(I29*$D29,2) -> 11260.31 | M29: =SUM(E29+G29+I29+K29) -> 1
A30: ='Sintetica (não desonerado)'!A121 -> 4.6.2 | B30: ='Sintetica (não desonerado)'!B121 -> INSTALAÇÕES HIDRÁULICAS | C30: =D30/D$50 -> 0.010948639 | D30: =ROUND('Sintetica (não desonerado)'!G121*(1+$L$2),2) -> 2764.61 | I30: 1 | J30: =ROUND(I30*$D30,2) -> 2764.61 | M30: =SUM(E30+G30+I30+K30) -> 1
A31: ='Sintetica (não desonerado)'!A133 -> 4.7 | B31: ='Sintetica (não desonerado)'!B133 -> INSTALAÇÕES ELÉTRICAS | C31: =D31/D$50 -> 0.044865653 | D31: =ROUND('Sintetica (não desonerado)'!G151*(1+$L$2),2) -> 11328.9 | I31: 1 | J31: =ROUND(I31*$D31,2) -> 11328.9 | M31: =SUM(E31+G31+I31+K31) -> 1
A32: ='Sintetica (não desonerado)'!A153 -> 4.8 | B32: ='Sintetica (não desonerado)'!B153 -> SERVIÇOS COMPLEMENTARES | C32: =D32/D$50 -> 0.011825802 | D32: =ROUND('Sintetica (não desonerado)'!G158*(1+$L$2),2) -> 2986.1 | K32: 1 | L32: =ROUND(K32*$D32,2) -> 2986.1 | M32: =SUM(E32+G32+I32+K32) -> 1
A33: ='Sintetica (não desonerado)'!A160 -> 5 | B33: ='Sintetica (não desonerado)'!B160 -> ABRIGO TEMPORÁRIO DE RESÍDUOS INFECTANTES (4 UNIDADES) | C33: =D33/D$50 -> 0.189112 | D33: =ROUND(SUM(D34,D37,D40,D47,D48),2) -> 47752.14 | M33: =SUM(E33+G33+I33+K33) -> 0
A34: ='Sintetica (não desonerado)'!A161 -> 5.1 | B34: ='Sintetica (não desonerado)'!B161 -> INFRAESTRUTURA | C34: =D34/D$50 -> 0.038590941 | D34: =ROUND(SUM(D35:D36),2) -> 9744.49 | M34: =SUM(E34+G34+I34+K34) -> 0
A35: ='Sintetica (não desonerado)'!A162 -> 5.1.1 | B35: ='Sintetica (não desonerado)'!B162 -> VIGAS BALDRAMES E CINTAS DE AMARRAÇÃO | C35: =D35/D$50 -> 0.030597703 | D35: =ROUND('Sintetica (não desonerado)'!G162*(1+$L$2),2) -> 7726.14 | I35: 1 | J35: =ROUND(I35*$D35,2) -> 7726.14 | M35: =SUM(E35+G35+I35+K35) -> 1
A36: ='Sintetica (não desonerado)'!A173 -> 5.1.2 | B36: ='Sintetica (não desonerado)'!B173 -> LAJE PISO | C36: =D36/D$50 -> 0.0079932377 | D36: =ROUND('Sintetica (não desonerado)'!G173*(1+$L$2),2) -> 2018.35 | I36: 1 | J36: =ROUND(I36*$D36,2) -> 2018.35 | M36: =SUM(E36+G36+I36+K36) -> 1
A37: ='Sintetica (não desonerado)'!A178 -> 5.2 | B37: ='Sintetica (não desonerado)'!B178 -> COBERTURA | C37: =D37/D$50 -> 0.015898676 | D37: =ROUND(SUM(D38:D39),2) -> 4014.53 | M37: =SUM(E37+G37+I37+K37) -> 0
A38: ='Sintetica (não desonerado)'!A179 -> 5.2.1 | B38: ='Sintetica (não desonerado)'!B179 -> ESTRUTURA METÁLICA DO TELHADO | C38: =D38/D$50 -> 0.0077025925 | D38: =ROUND('Sintetica (não desonerado)'!G179*(1+$L$2),2) -> 1944.96 | I38: 1 | J38: =ROUND(I38*$D38,2) -> 1944.96 | M38: =SUM(E38+G38+I38+K38) -> 1
A39: ='Sintetica (não desonerado)'!A182 -> 5.2.2 | B39: ='Sintetica (não desonerado)'!B182 -> TELHAMENTO EM TELHA COLONIAL | C39: =D39/D$50 -> 0.0081960834 | D39: =ROUND('Sintetica (não desonerado)'!G182*(1+$L$2),2) -> 2069.57 | I39: 1 | J39: =ROUND(I39*$D39,2) -> 2069.57 | M39: =SUM(E39+G39+I39+K39) -> 1
A40: ='Sintetica (não desonerado)'!A185 -> 5.3 | B40: ='Sintetica (não desonerado)'!B185 -> ARQUITETURA | C40: =D40/D$50 -> 0.11515106 | D40: =ROUND(SUM(D41:D46),2) -> 29076.47 | M40: =SUM(E40+G40+I40+K40) -> 0
...

Sheet BDI (não desonerado)
A1: UNIVERSIDADE FEDERAL DOS VALES DO JEQUITINHONHA E MUCURI CAMPUS PRESIDENTE JUSCELINO KUBITSCHEK - DIAMANTINA - MG REFORMA E AMPLIAÇÃO DO ABRIGO DE RESÍDUOS DE SERVIÇOS DE SAÚDE (RSS) BDI DE SERVIÇOS DE REFERÊNCIA
A2: MODELO COMPOSIÇÃO DA TAXA DE BENEFÍCIOS E DESPESAS INDIRETAS CIDADE DE DIAMANTINA (NÃO DESONERADO)
A3: Grupo | B3: A | C3: Despesas indiretas
B4: A.1 | C4: Administração central | D4: 0.04
B5: A.2 | C5: Garantia e Seguro Contratual | D5: 0.01
B6: A.3 | C6: Seguro de Risco de Engenharia | D6: 0.0127
B7: A.4 | C7: Outros | D7: 0
C8: Total do grupo A | D8: =SUM(D4:D7) -> 0.0627
A10: Grupo | B10: B | C10: Bonificação
B11: B.1 | C11: Lucro | D11: 0.074
C12: Total do grupo B | D12: =SUM(D11) -> 0.074
A14: Grupo | B14: C | C14: Impostos
B15: C.1 | C15: PIS | D15: 0.0065
B16: C.2 | C16: COFINS | D16: 0.03
B17: C.3 | C17: ISS (Prefeitura de Diamantina)* | D17: 0.04
B18: C.4 | C18: CPRB (Contribuição Previdenciária sobre Renda Bruta) | D18: 0
C19: Total do grupo C | D19: =SUM(D15:D18) -> 0.0765
A21: Grupo | B21: D | C21: Despesas Financeiras (F)
C22: Despesas Financeiras (F) | D22: 0.0123
C23: Total do grupo D | D23: =SUM(D22) -> 0.0123
A25: Fórmula para o cálculo do B.D.I. ( benefícios e despesas indiretas )
A26: BDI = BDI (%) = [(1+A) x (1+F) x (1+B)]/(1-I) - 1 | D26: =((((1+D8)*(1+D23)*(1+D12))/(1-D19)-1)) -> 0.25108639

Sheet Sintética (desonerada)
A1: OBRA | E1: BANCO | G1: BDI
A2: UNIVERSIDADE FEDERAL DOS VALES DO JEQUITINHONHA E MUCURI CAMPUS PRESIDENTE JUSCELINO KUBITSCHEK - DIAMANTINA - MG REFORMA E AMPLIAÇÃO DO ABRIGO DE RESÍDUOS DE SERVIÇOS DE SAÚDE (RSS) PLANILHA ORÇAMENTÁRIA SINTÉTICA DE REFERÊNCIA - DESONERADA | E2: SINAPI - 02/2022 - Minas Gerais SETOP - 01/2022 - Minas Gerais | G2: 0.3152
A3: Item | B3: Código | C3: Descrição | D3: Und | E3: Quant. | F3: Valor Unit | G3: Total
A4: 1 | C4: MOBILIZAÇÃO E DESMOBILIZAÇÃO DE OBRA | G4: =G5 -> 959.95
A5: 1.1 | B5: MOB-DES-020 | C5: OBRAS COM VALOR ATÉ 1.000.000,00 | D5: % | E5: 0.005 | F5: =SUM(G6,G8,G12,G138) -> 191990.6 | G5: =ROUND(F5*E5,2) -> 959.95
A6: 2 | C6: ADMINISTRAÇÃO LOCAL | G6: 21748.4
A7: 2.1 | B7: 93572 | C7: ENCARREGADO GERAL DE OBRAS COM ENCARGOS COMPLEMENTARES | D7: MES | E7: 4 | F7: 5437.1 | G7: 21748.4
A8: 3 | C8: CANTEIRO DE OBRAS | G8: 3366.89
A9: 3.1 | B9: ED-16660 | C9: FORNECIMENTO E COLOCAÇÃO DE PLACA DE OBRA EM CHAPA GALVANIZADA #26, ESP. 0,45 MM, PLOTADA COM ADESIVO VINÍLICO, AFIXADA COM REBITES 4,8X40 MM, EM ESTRUTURA METÁLICA DE METALON 20X20 MM, ESP. 1,25 MM, INCLUSIVE SUPORTE EM EUCALIPTO AUTOCLAVADO PINTADO COM TINTA PVA DUAS (2) DEMÃOS | D9: m² | E9: 2.2 | F9: 201.25 | G9: 442.75
A10: 3.2 | B10: IIO-TAP-026 | C10: TAPUME COM TELA DE POLIETILENO | D10: M | E10: 179.18 | F10: 14.84 | G10: 2659.03
A11: 3.3 | B11: LOC-OBR-005 | C11: LOCAÇÃO DA OBRA (GABARITO) | D11: m² | E11: 32.73 | F11: 8.1 | G11: 265.11
A12: 4 | C12: ABRIGO EXTERNO DE RESÍDUOS | G12: 130092.28
A13: 4.1 | C13: INFRAESTRUTURA | G13: 19232.97
A14: 4.1.1 | C14: BLOCOS E VIGAS BALDRAMES | G14: 3349.53
A15: 4.1.1.1 | B15: 97629 | C15: DEMOLIÇÃO DE PISO, DE FORMA MECANIZADA COM MARTELETE, SEM REAPROVEITAMENTO | D15: m³ | E15: 5.65 | F15: 93.24 | G15: 526.8
A16: 4.1.1.2 | B16: 93358 | C16: ESCAVAÇÃO MANUAL DE VALAS (BLOCOS E VIGAS BALDRAMES) | D16: m³ | E16: 2.54 | F16: 59.97 | G16: 152.32
A17: 4.1.1.3 | B17: 93382 | C17: REATERRO MANUAL DE VALAS COM COMPACTAÇÃO MECANIZADA. | D17: m³ | E17: 1.46 | F17: 24.83 | G17: 36.25
A18: 4.1.1.4 | B18: TER-REG-010 | C18: REGULARIZAÇÃO E COMPACTAÇÃO DE TERRENO COM PLACA VIBRATÓRIA (VIGAS BALDRAMES, SAPATAS E PISO) | D18: m² | E18: 98.75 | F18: 3.85 | G18: 380.18
A19: 4.1.1.5 | B19: 96557 | C19: CONCRETAGEM DE BLOCOS DE COROAMENTO E VIGAS BALDRAMES, FCK 30 MPA, COM USO DE BOMBA  LANÇAMENTO, ADENSAMENTO E ACABAMENTO. | D19: m³ | E19: 1.12 | F19: 511 | G19: 572.32
A20: 4.1.1.6 | B20: EST-FOR-005 | C20: FORMA E DESFORMA DE TÁBUA E SARRAFO, REAPROVEITAMENTO (3X) - (BLOCOS, VIGAS BALDRAMES E PISO) | D20: m² | E20: 21.48 | F20: 49.08 | G20: 1054.23
A21: 4.1.1.7 | B21: 98557 | C21: IMPERMEABILIZAÇÃO DE SUPERFÍCIE COM EMULSÃO ASFÁLTICA, 2 DEMÃOS | D21: m² | E21: 9.6 | F21: 35.01 | G21: 336.09
A22: 4.1.1.8 | B22: 96543 | C22: ARMAÇÃO DE BLOCO, VIGA BALDRAME E SAPATA UTILIZANDO AÇO CA-60 DE 4,2 E 5 MM - MONTAGEM. | D22: KG | E22: 5.79 | F22: 17.12 | G22: 99.12
A23: 4.1.1.9 | B23: 96545 | C23: ARMAÇÃO DE BLOCO, VIGA BALDRAME OU SAPATA UTILIZANDO AÇO CA-50 DE 8 MM - MONTAGEM. | D23: KG | E23: 12.68 | F23: 15.16 | G23: 192.22
A24: 4.1.2 | C24: LAJE PISO E RAMPA ACESSO | G24: 9673.27
A25: 4.1.2.1 | B25: PIS-LON-005 | C25: APLICAÇÃO DE LONA PRETA, ESP. 150 MICRAS, INCLUSIVE FORNECIMENTO | D25: m² | E25: 88.3338 | F25: 2.39 | G25: 211.11
A26: 4.1.2.2 | B26: 97092 | C26: ARMAÇÃO PARA EXECUÇÃO DE RADIER, PISO DE CONCRETO OU LAJE SOBRE SOLO, COM USO DE TELA Q-196 | D26: KG | E26: 274.71812 | F26: 18.03 | G26: 4953.16
A27: 4.1.2.3 | B27: 97096 | C27: CONCRETAGEM DE RADIER, PISO DE CONCRETO OU LAJE SOBRE SOLO, FCK 30 MPA - LANÇAMENTO, ADENSAMENTO E ACABAMENTO (ESP. = 10 CM) | D27: m³ | E27: 9.57 | F27: 471.16 | G27: 4509
A28: 4.1.3 | C28: ESTRUTURA METÁLICA | G28: 6210.17
A29: 4.1.3.1 | B29: COMP-ABRIGO-03 | C29: PILAR METÁLICO PERFIL UDC ("U" DOBRADO DE CHAPA) SIMPLES DE ACO LAMINADO, GALVANIZADO, ASTM A36, 127 X 50 MM, E= 3 MM - CHAPA DUPLA, INCLUSO 1 (UMA) DEMÃO DE ZARCÃO E 2 (DUAS) DEMÃOS DE PINTURA | D29: KG | E29: 290.7 | F29: 11.09 | G29: 3223.86
A30: 4.1.3.2 | B30: COMP-ABRIGO-03 | C30: PILAR METÁLICO PERFIL UDC ("U" DOBRADO DE CHAPA) SIMPLES DE ACO LAMINADO, GALVANIZADO, ASTM A36, 127 X 50 MM, E= 3 MM - CHAPA DUPLA, INCLUSO 1 (UMA) DEMÃO DE ZARCÃO E 2 (DUAS) DEMÃOS DE PINTURA | D30: KG | E30: 269.28 | F30: 11.09 | G30: 2986.31
A31: 4.2 | C31: COBERTURA | G31: 14762.19
A32: 4.2.1 | C32: RETIRADA DE TELHAS | G32: 81.79
A33: 4.2.1.1 | B33: 97647 | C33: REMOÇÃO DE TELHAS, DE FIBROCIMENTO, METÁLICA E CERÂMICA, DE FORMA MANUAL, SEM REAPROVEITAMENTO | D33: m² | E33: 33.25 | F33: 2.46 | G33: 81.79
A34: 4.2.2 | C34: ESTRUTURA METÁLICA DO TELHADO | G34: 4288.08
A35: 4.2.2.1 | B35: 92580 | C35: TRAMA DE AÇO COMPOSTA POR TERÇAS PARA TELHADOS DE ATÉ 2 ÁGUAS PARA TELHA METÁLICA, INCLUSO TRANSPORTE VERTICAL | D35: m² | E35: 44.75 | F35: 46.67 | G35: 2088.48
A36: 4.2.2.2 | B36: PIN-ESM-035 | C36: PINTURA ESMALTE EM ESTRUTURA METÁLICA, DUAS (2) DEMÃOS, INCLUSIVE UMA (1) DEMÃO FUNDO ANTICORROSIVO | D36: m² | E36: 78 | F36: 28.2 | G36: 2199.6
A37: 4.2.3 | C37: TELHAMENTO EM TELHA METÁLICA | G37: 6273.54
A38: 4.2.3.1 | B38: COB-TEL-045 | C38: COBERTURA EM TELHA METÁLICA GALVANIZADA TRAPEZOIDAL, TIPO SIMPLES, ESP. 0,50MM, ACABAMENTO NATURAL, INCLUSIVE ACESSÓRIOS PARA FIXAÇÃO, FORNECIMENTO E INSTALAÇÃO | D38: m² | E38: 78 | F38: 80.43 | G38: 6273.54
A39: 4.2.4 | C39: INSTALAÇÃO DE CALHAS / CUMEEIRAS / DESCIDAS D'ÁGUA | G39: 4118.78
A40: 4.2.4.1 | B40: COB-CUM-015 | C40: CUMEEIRA GALVANIZADA TRAPEZOIDAL E = 0,50 MM, SIMPLES | D40: M | E40: 8.98 | F40: 31.92 | G40: 286.64
...

Sheet BDI (DESONERADO)
A1: UNIVERSIDADE FEDERAL DOS VALES DO JEQUITINHONHA E MUCURI CAMPUS PRESIDENTE JUSCELINO KUBITSCHEK - DIAMANTINA - MG REFORMA E AMPLIAÇÃO DO ABRIGO DE RESÍDUOS DE SERVIÇOS DE SAÚDE (RSS) BDI DE SERVIÇOS DE REFERÊNCIA
A2: MODELO COMPOSIÇÃO DA TAXA DE BENEFÍCIOS E DESPESAS INDIRETAS CIDADE DE DIAMANTIA (DESONERADO)
A3: Grupo | B3: A | C3: Despesas indiretas
B4: A.1 | C4: Administração central | D4: 0.04
B5: A.2 | C5: Garantia e Seguro Contratual | D5: 0.01
B6: A.3 | C6: Seguro de Risco de Engenharia | D6: 0.0127
B7: A.4 | C7: Outros | D7: 0
C8: Total do grupo A | D8: =SUM(D4:D7) -> 0.0627
A10: Grupo | B10: B | C10: Bonificação
B11: B.1 | C11: Lucro | D11: 0.074
C12: Total do grupo B | D12: =SUM(D11) -> 0.074
A14: Grupo | B14: C | C14: Impostos
B15: C.1 | C15: PIS | D15: 0.0065
B16: C.2 | C16: COFINS | D16: 0.03
B17: C.3 | C17: ISS (Prefeitura de Diamantina)* | D17: 0.04
B18: C.4 | C18: CPRB (Contribuição Previdenciária sobre Renda Bruta) | D18: 0.045
C19: Total do grupo C | D19: =SUM(D15:D18) -> 0.1215
A21: Grupo | B21: D | C21: Despesas Financeiras (F)
C22: Despesas Financeiras (F) | D22: 0.0123
C23: Total do grupo D | D23: =SUM(D22) -> 0.0123
A25: Fórmula para o cálculo do B.D.I. ( benefícios e despesas indiretas )
A26: BDI = BDI (%) = [(1+A) x (1+F) x (1+B)]/(1-I) - 1 | D26: =((((1+D8)*(1+D23)*(1+D12))/(1-D19)-1)) -> 0.31517163

Sheet Curva ABC
A1: OBRA: REFORMA E AMPLIAÇÃO DO ABRIGO DE RESÍDUOS DE SERVIÇOS DE SAÚDE (RSS) | J1: Encargos sociais
A2: CURVA ABC DE INSUMOS | J2: Não desonerado: 0,00%
A3: Código | B3: Banco | C3: Descrição | D3: Und | E3: Quantidade | F3: Valor Unitário | G3: Total | I3: Peso | J3: Valor Acumulado | K3: Peso Acumulado
E4: Operativa | F4: Operativa | G4: Operativa | H4: Geral
A5: 40818 | B5: SINAPI | C5: ENCARREGADO GERAL DE OBRAS (MENSALISTA) | D5: MES | E5: 4.0524 | F5: 5777.56 | G5: 23412.98 | H5: 23412.98 | I5: 0.1166 | J5: 23412.98 | K5: 0.1166
A6: MATED- 11579 | B6: SETOP | C6: TUBO DE AÇO CARBONO GALVANIZADO COM COSTURA (CLASSE: MÉDIA| DN: 50MM(2")|ESPESSURA: 3,75MM|PESO: 5,23KG/M) | D6: m | E6: 170.184 | F6: 92.23 | G6: 15696.07 | H6: 15696.07 | I6: 0.0782 | J6: 39109.05 | K6: 0.1947
A7: MATED- 11981 | B7: SETOP | C7: PORTÃO EM TUBO GALVANIZADO 1 1/2" COM TELA FIO 12 # 1/2" E CADEADO | D7: m² | E7: 31.02 | F7: 287 | G7: 8902.74 | H7: 8902.74 | I7: 0.0443 | J7: 48011.79 | K7: 0.2391
A8: MOED- 20154 | B8: SETOP | C8: SERVENTE | D8: H | E8: 586.05346 | F8: 11.85 | G8: 6944.73 | H8: 6944.73 | I8: 0.0346 | J8: 54956.53 | K8: 0.2737
A9: 1525 | B9: SINAPI | C9: CONCRETO USINADO BOMBEAVEL, CLASSE DE RESISTENCIA C30, COM BRITA 0 E 1, SLUMP = 100 +/- 20 MM, INCLUI SERVICO DE BOMBEAMENTO (NBR 8953) | D9: m³ | E9: 14.7615 | F9: 430.55 | G9: 6355.56 | H9: 6355.56 | I9: 0.0316 | J9: 61312.09 | K9: 0.3053
A10: MATED- 12176 | B10: SETOP | C10: TELHA GALVANIZADA ( MODELO: TRAPEZOIDAL/ ACABAMENTO: NATURAL SEM PINTURA/ESPESSURA TELHA: 0,50MM/ALTURA: 40MM/TIPO: SIMPLES SEM ISOLAMENTO TERMOACÚSTICO/ MATERIAL: GALVALUME) | D10: m² | E10: 117.6 | F10: 48.09 | G10: 5655.38 | H10: 5655.38 | I10: 0.0282 | J10: 66967.48 | K10: 0.3335
A11: 40598 | B11: SINAPI | C11: PERFIL UDC ("U" DOBRADO DE CHAPA) SIMPLES DE ACO LAMINADO, GALVANIZADO, ASTM A36, 127 X 50 MM, E= 3 MM | D11: KG | E11: 559.98 | F11: 8.79 | G11: 4922.22 | H11: 4922.22 | I11: 0.0245 | J11: 71889.7 | K11: 0.358
A12: 6111 | B12: SINAPI | C12: SERVENTE DE OBRAS | D12: H | E12: 398.44125 | F12: 11.85 | G12: 4721.53 | H12: 4721.53 | I12: 0.0235 | J12: 76611.23 | K12: 0.3815
A13: MATED- 11415 | B13: SETOP | C13: AZULEJO ESMALTADO LISO (COMPRIMENTO: 20CM| LARGURA: 20CM) | D13: m² | E13: 160.24575 | F13: 29.26 | G13: 4688.79 | H13: 4688.79 | I13: 0.0233 | J13: 81300.02 | K13: 0.4048
A14: 7156 | B14: SINAPI | C14: TELA DE ACO SOLDADA NERVURADA, CA-60, Q-196, (3,11 KG/M2), DIAMETRO DO FIO = 5,0 MM, LARGURA = 2,45 M, ESPACAMENTO DA MALHA = 10 X 10 CM | D14: m² | E14: 126.22013 | F14: 36.83 | G14: 4648.69 | H14: 4648.69 | I14: 0.0231 | J14: 85948.71 | K14: 0.428
A15: MATED- 11266 | B15: SETOP | C15: TELA DE ARAME GALVANIZADO PARA ALAMBRADO (DIMENSÕES DA TRAMA: 2X2"| TIPO DA MALHA: LOSANGULAR| BITOLA DO FIO: BWG 14 (2, 10MM)) | D15: m² | E15: 170.184 | F15: 26.53 | G15: 4514.98 | H15: 4514.98 | I15: 0.0225 | J15: 90463.69 | K15: 0.4505
A16: 4750 | B16: SINAPI | C16: PEDREIRO (HORISTA) | D16: H | E16: 210.03892 | F16: 17.92 | G16: 3763.9 | H16: 3763.9 | I16: 0.0187 | J16: 94227.59 | K16: 0.4692
A17: MATED- 11258 | B17: SETOP | C17: CIMENTO PORTLAND CP II- E-32 (RESISTÊNCIA: 32,00 MPA) | D17: Kg | E17: 6600.2592 | F17: 0.57 | G17: 3762.15 | H17: 3762.15 | I17: 0.0187 | J17: 97989.73 | K17: 0.4879
A18: 37592 | B18: SINAPI | C18: BLOCO CERAMICO / TIJOLO VAZADO PARA ALVENARIA DE VEDACAO, FUROS NA VERTICAL,, 9 X 19 X 39 CM (NBR 15270) | D18: UN | E18: 1559.376 | F18: 2 | G18: 3118.75 | H18: 3118.75 | I18: 0.0155 | J18: 101108.49 | K18: 0.5035
A19: 4783 | B19: SINAPI | C19: PINTOR (HORISTA) | D19: H | E19: 168.26082 | F19: 17.92 | G19: 3015.23 | H19: 3015.23 | I19: 0.015 | J19: 104123.72 | K19: 0.5185
A20: 980 | B20: SINAPI | C20: CABO DE COBRE, FLEXIVEL, CLASSE 4 OU 5, ISOLACAO EM PVC/A, ANTICHAMA BWF-B, 1 CONDUTOR, 450/750 V, SECAO NOMINAL 10 MM2 | D20: M | E20: 308.1 | F20: 8.89 | G20: 2739.01 | H20: 2739.01 | I20: 0.0136 | J20: 106862.73 | K20: 0.5321
A21: 43083 | B21: SINAPI | C21: PERFIL "U" ENRIJECIDO DE ACO GALVANIZADO, DOBRADO, 150 X 60 X 20 MM, E = 3,00 MM OU 200 X 75 X 25 MM, E = 3,75 MM | D21: KG | E21: 280.56175 | F21: 9.01 | G21: 2527.86 | H21: 2527.86 | I21: 0.0126 | J21: 109390.59 | K21: 0.5447
A22: MOED- 20150 | B22: SETOP | C22: PEDREIRO | D22: H | E22: 140.61343 | F22: 17.92 | G22: 2519.79 | H22: 2519.79 | I22: 0.0125 | J22: 111910.38 | K22: 0.5573
A23: 2696 | B23: SINAPI | C23: ENCANADOR OU BOMBEIRO HIDRAULICO (HORISTA) | D23: H | E23: 122.06166 | F23: 17.92 | G23: 2187.34 | H23: 2187.34 | I23: 0.0109 | J23: 114097.73 | K23: 0.5681
A24: 40783 | B24: SINAPI | C24: CALHA QUADRADA DE CHAPA DE ACO GALVANIZADA NUM 24, CORTE 50 CM | D24: M | E24: 29.757 | F24: 65.79 | G24: 1957.71 | H24: 1957.71 | I24: 0.0097 | J24: 116055.44 | K24: 0.5779
A25: MATED- 11344 | B25: SETOP | C25: PONTALETE 3A. CONSTRUÇÃO (SEÇÃO TRANSVERSAL: 3"X3" [7,5X7 ,5CM]|TIPO DE MADEIRA: CEDRO OU EQUIVALENTE DA REGIÃO) | D25: m | E25: 233.794 | F25: 8.33 | G25: 1947.5 | H25: 1947.5 | I25: 0.0097 | J25: 118002.94 | K25: 0.5876
A26: MATED- 12660 | B26: SETOP | C26: PORTÃO DE FERRO PADRÃO, EM CHAPA (TIPO LAMBRI ) | D26: m² | E26: 9.45 | F26: 203 | G26: 1918.35 | H26: 1918.35 | I26: 0.0096 | J26: 119921.29 | K26: 0.5971
A27: MATED- 13096 | B27: SETOP | C27: CESTA BÁSICA/ ALIMENTAÇÃO - HORISTA ( ENCARGOS COMPLEMENTARES) | D27: hora | E27: 1349.0698 | F27: 1.41 | G27: 1902.19 | H27: 1902.19 | I27: 0.0095 | J27: 121823.48 | K27: 0.6066
A28: 1379 | B28: SINAPI | C28: CIMENTO PORTLAND COMPOSTO CP II-32 | D28: KG | E28: 2781.1532 | F28: 0.66 | G28: 1835.56 | H28: 1835.56 | I28: 0.0091 | J28: 123659.04 | K28: 0.6158
A29: MOED- 20138 | B29: SETOP | C29: AZULEJISTA | D29: H | E29: 93.26472 | F29: 19.43 | G29: 1812.13 | H29: 1812.13 | I29: 0.009 | J29: 125471.18 | K29: 0.6248
A30: MATED- 11248 | B30: SETOP | C30: AREIA LAVADA POSTO OBRA (TIPO: MÉDIA) | D30: m³ | E30: 19.727828 | F30: 91.25 | G30: 1800.16 | H30: 1800.16 | I30: 0.009 | J30: 127271.34 | K30: 0.6337
A31: MATED- 11251 | B31: SETOP | C31: PEDRA BRITADA POSTO OBRA (NÚMERO: 2| GRANULOMETRIA: 19-38MM ) | D31: m³ | E31: 17.276428 | F31: 102 | G31: 1762.2 | H31: 1762.2 | I31: 0.0088 | J31: 129033.54 | K31: 0.6425
A32: MOED- 20149 | B32: SETOP | C32: MONTADOR | D32: H | E32: 99.98 | F32: 17.43 | G32: 1742.65 | H32: 1742.65 | I32: 0.0087 | J32: 130776.19 | K32: 0.6512
A33: 37370 | B33: SINAPI | C33: ALIMENTACAO - HORISTA (COLETADO CAIXA) | D33: H | E33: 1217.2827 | F33: 1.41 | G33: 1716.37 | H33: 1716.37 | I33: 0.0085 | J33: 132492.56 | K33: 0.6597
A34: MOED- 20141 | B34: SETOP | C34: CARPINTEIRO DE FORMA | D34: H | E34: 91.718258 | F34: 17.92 | G34: 1643.59 | H34: 1643.59 | I34: 0.0082 | J34: 134136.15 | K34: 0.6679
A35: 246 | B35: SINAPI | C35: AUXILIAR DE ENCANADOR OU BOMBEIRO HIDRAULICO (HORISTA) | D35: H | E35: 118.96305 | F35: 13.51 | G35: 1607.19 | H35: 1607.19 | I35: 0.008 | J35: 135743.34 | K35: 0.6759
A36: MOED- 20151 | B36: SETOP | C36: PINTOR | D36: H | E36: 78.4 | F36: 17.92 | G36: 1404.93 | H36: 1404.93 | I36: 0.007 | J36: 137148.27 | K36: 0.6829
A37: 1287 | B37: SINAPI | C37: PISO EM CERAMICA ESMALTADA EXTRA, PEI MAIOR OU IGUAL A 4, FORMATO MENOR OU IGUAL A 2025 CM2 | D37: m² | E37: 43.99 | F37: 31.75 | G37: 1396.68 | H37: 1396.68 | I37: 0.007 | J37: 138544.95 | K37: 0.6899
A38: PM30 | B38: Próprio | C38: CHUVEIRO LAVA-OLHOS MANUAL EM FERRO GALVANIZADO | D38: UND | E38: 1 | F38: 1350.36 | G38: 1350.36 | H38: 1350.36 | I38: 0.0067 | J38: 139895.31 | K38: 0.6966
A39: 7288 | B39: SINAPI | C39: TINTA ESMALTE SINTETICO PREMIUM FOSCO | D39: L | E39: 36.27585 | F39: 33.23 | G39: 1205.45 | H39: 1205.45 | I39: 0.006 | J39: 141100.76 | K39: 0.7026
A40: ED-8461 | B40: SETOP | C40: FORMA E DESFORMA PARA LAJE DE MADEIRA COM TÁBUA E SARRAFO, REAPROVEITAMENTO (3X), EXCLUSIVE ESCORAMENTO | D40: m² | E40: 24.09856 | F40: 48.08 | G40: 1158.66 | H40: 1158.66 | I40: 0.0058 | J40: 142259.41 | K40: 0.7084
...

Sheet Pesquisa de mercado
A1: PESQUISAS DE MERCADO
A2: ABRIGO DE RESÍDUOS DE SERVIÇOS DE SAÚDE
A3: CHUVEIRO LAVA-OLHOS MANUAL EM FERRO GALVANIZADO
A4: CÓDIGO | B4: PESQUISAS | C4: FORNECEDOR | D4: PREÇO UNITÁRIO | E4: FRETE | F4: PREÇO TOTAL
A5: COMP-ABRIGO-01 (PM30) | B5: PM01 | C5: HM CHUVEIROS | D5: R$ 1.490,00 | E5: R$ 20,97 | F5: R$ 1.510,97
B6: PM02 | C6: PATAVO SUPRIMENTOS | D6: R$ 1.026,00 | E6: R$ 64,00 | F6: R$ 1.090,00
B7: PM03 | C7: PROLAB | D7: R$ 1.198,00 | E7: R$ 252,12 | F7: R$ 1.450,12
B8: MÉDIA DOS ORÇAMENTOS | F8: R$ 1.350,36
A10: FRISO PROTETOR DE PORTA CONTRA INSETOS E ÁGUA DE CHUVA
A11: CÓDIGO | B11: PESQUISAS | C11: FORNECEDOR | D11: PREÇO UNITÁRIO | E11: FRETE | F11: PREÇO TOTAL
A12: COMP-ABRIGO-02 (00000039) | B12: PM01 | C12: MAGAZINE LUIZA | D12: R$ 25,00 | E12: R$ 12,90 | F12: R$ 37,90
B13: PM02 | C13: SHOPTIME | D13: R$ 34,08 | E13: R$ 18,99 | F13: R$ 53,07
B14: PM03 | C14: LOJAS AMERICANAS | D14: R$ 16,96 | E14: R$ 30,99 | F14: R$ 47,95
B15: MÉDIA DOS ORÇAMENTOS | F15: R$ 46,31
